BEGIN:VCALENDAR
VERSION:2.0
PRODID:-//Circle of Wine Writers - ECPv6.3.5//NONSGML v1.0//EN
CALSCALE:GREGORIAN
METHOD:PUBLISH
X-WR-CALNAME:Circle of Wine Writers
X-ORIGINAL-URL:https://www.circleofwinewriters.org
X-WR-CALDESC:Events for Circle of Wine Writers
REFRESH-INTERVAL;VALUE=DURATION:PT1H
X-Robots-Tag:noindex
X-PUBLISHED-TTL:PT1H
BEGIN:VTIMEZONE
TZID:Europe/London
BEGIN:DAYLIGHT
TZOFFSETFROM:+0000
TZOFFSETTO:+0100
TZNAME:BST
DTSTART:20210328T010000
END:DAYLIGHT
BEGIN:STANDARD
TZOFFSETFROM:+0100
TZOFFSETTO:+0000
TZNAME:GMT
DTSTART:20211031T010000
END:STANDARD
END:VTIMEZONE
BEGIN:VEVENT
DTSTART;TZID=Europe/London:20210909T100000
DTEND;TZID=Europe/London:20210909T173000
DTSTAMP:20260421T165019
CREATED:20210824T143022Z
LAST-MODIFIED:20210824T143022Z
UID:48753-1631181600-1631208600@www.circleofwinewriters.org
SUMMARY:Bureau de la Région Occitanie - Top 100 Discovery Tasting Event for trade & writers
DESCRIPTION:Taste the very best of Occitanie – all 100 winning wines from the 2021 Top 100 competition \nThe big reveal will be hosted live for the first time in two years.  It’s the opportunity to taste all 100 top wines from the Languedoc-Roussillon / Sud de France and South Ouest Top 100 under one roof.  Whilst there is plenty of scope by the trade for new discovery\, as 60% of the winning wines are seeking UK distribution\, some of the wines are already being successfully distributed in UK supermarkets\, independent retailers or wine merchants.  \nThe event in London showcases the diversity of the Occitanie\, which is the largest wine region in the world.\nThe day includes two masterclasses presented by Tim Atkin MW\, who also chaired the panel of buyers and experts for selecting the Top 100.  He presents the great white wines of the region at 12 noon\, and personal picks from the Top 100 at 2pm.  \nRegistration is free and visitors can sign-up to the tasting and masterclasses now.\nhttps://www.eventbrite.co.uk/e/top-100-discovery-trade-press-tasting-tickets-161609507387 \nVisitors can also select their own choice of boxed sample wines from the Top 100 to take away.\nwww.suddefrancetop100.co.uk   \nTwitter & Instagram:       @Suddefranceuk  #LeTop100
URL:https://www.circleofwinewriters.org/event/bureau-de-la-region-occitanie-top-100-discovery-tasting-event-for-trade-writers/
LOCATION:One Great George Street\, London\, SW1P 3AA
ATTACH;FMTTYPE=image/png:https://www.circleofwinewriters.org/wp-content/uploads/2021/08/Top100DiscoveryTasting-e1629815194547.png
ORGANIZER;CN="Su-Lin Ong":MAILTO:sulinong@slo-london.co.uk
END:VEVENT
END:VCALENDAR