BEGIN:VCALENDAR
VERSION:2.0
PRODID:-//Circle of Wine Writers - ECPv6.3.5//NONSGML v1.0//EN
CALSCALE:GREGORIAN
METHOD:PUBLISH
X-WR-CALNAME:Circle of Wine Writers
X-ORIGINAL-URL:https://www.circleofwinewriters.org
X-WR-CALDESC:Events for Circle of Wine Writers
REFRESH-INTERVAL;VALUE=DURATION:PT1H
X-Robots-Tag:noindex
X-PUBLISHED-TTL:PT1H
BEGIN:VTIMEZONE
TZID:Europe/London
BEGIN:DAYLIGHT
TZOFFSETFROM:+0000
TZOFFSETTO:+0100
TZNAME:BST
DTSTART:20210328T010000
END:DAYLIGHT
BEGIN:STANDARD
TZOFFSETFROM:+0100
TZOFFSETTO:+0000
TZNAME:GMT
DTSTART:20211031T010000
END:STANDARD
END:VTIMEZONE
BEGIN:VEVENT
DTSTART;TZID=Europe/London:20210917T120000
DTEND;TZID=Europe/London:20210917T150000
DTSTAMP:20260421T165020
CREATED:20210831T115257Z
LAST-MODIFIED:20210831T115257Z
UID:48770-1631880000-1631890800@www.circleofwinewriters.org
SUMMARY:Leonardslee Lakes & Gardens - Launch of the Sculpture Park and ‘The Walk of Life’ Exhibition
DESCRIPTION:Circle members are invited to attend the following: \nLeonardslee Lakes and Gardens in West Sussex – the South African-style wine and leisure destination created by entrepreneur Penny Streeter OBE at the 240-acre Grade I Listed woodland estate – is launching a sculpture park with a major exhibition of work by the celebrated South African artist Anton Smit.   \nPenny Streeter acquired Leonardslee in 2017 and reopened if after two years of intensive restoration work\, following eight years’ closure and neglect. Leonardslee features the first commercial planting of Pinotage in the UK. Attractions include wine tastings and tours – including of the 15-hectare vineyard at Mannings Golf and Wine Estate\, just three miles away and also owned by Penny Streeter.    \nThe Anton Smit Sculpture Park at Leonardslee is almost three years in the making and will be the largest of its kind in Europe this year.  \nPlease RSVP\, stating either 16th & 17th September art@leonardsleegardens.co.uk. Please confirm you are a member of CWW.
URL:https://www.circleofwinewriters.org/event/leonardslee-lakes-gardens-launch-of-the-sculpture-park-and-the-walk-of-life-exhibition-2/
LOCATION:Leonardslee Lakes & Gardens\, Brighton Road\, Lower Beeding\, RH13 6PP
ATTACH;FMTTYPE=image/jpeg:https://www.circleofwinewriters.org/wp-content/uploads/2021/08/calendarofeventsLeonardslee.jpg
ORGANIZER;CN="Patrick Rea":MAILTO:patrick.rea@reamarketing.co.uk
END:VEVENT
BEGIN:VEVENT
DTSTART;TZID=Europe/London:20210917T140000
DTEND;TZID=Europe/London:20210917T150000
DTSTAMP:20260421T165020
CREATED:20210921T150111Z
LAST-MODIFIED:20210921T150354Z
UID:48832-1631887200-1631890800@www.circleofwinewriters.org
SUMMARY:'Let's talk about State of Play – Brexit Today'
DESCRIPTION:Recording available via the CWW website.
URL:https://www.circleofwinewriters.org/event/lets-talk-about-state-of-play-brexit-today/
ATTACH;FMTTYPE=image/png:https://www.circleofwinewriters.org/wp-content/uploads/2017/07/Screen-Shot-2017-07-14-at-18.35.45-e1500053738434.png
END:VEVENT
END:VCALENDAR