BEGIN:VCALENDAR
VERSION:2.0
PRODID:-//Circle of Wine Writers - ECPv6.3.5//NONSGML v1.0//EN
CALSCALE:GREGORIAN
METHOD:PUBLISH
X-WR-CALNAME:Circle of Wine Writers
X-ORIGINAL-URL:https://www.circleofwinewriters.org
X-WR-CALDESC:Events for Circle of Wine Writers
REFRESH-INTERVAL;VALUE=DURATION:PT1H
X-Robots-Tag:noindex
X-PUBLISHED-TTL:PT1H
BEGIN:VTIMEZONE
TZID:Europe/London
BEGIN:DAYLIGHT
TZOFFSETFROM:+0000
TZOFFSETTO:+0100
TZNAME:BST
DTSTART:20210328T010000
END:DAYLIGHT
BEGIN:STANDARD
TZOFFSETFROM:+0100
TZOFFSETTO:+0000
TZNAME:GMT
DTSTART:20211031T010000
END:STANDARD
END:VTIMEZONE
BEGIN:VEVENT
DTSTART;TZID=Europe/London:20210924T140000
DTEND;TZID=Europe/London:20210924T150000
DTSTAMP:20260421T165019
CREATED:20210921T151610Z
LAST-MODIFIED:20210921T151610Z
UID:48837-1632492000-1632495600@www.circleofwinewriters.org
SUMMARY:'Let's taste and discuss Navarra Authenticity with Sarah Jane Evans MW'
DESCRIPTION:You’re invited to taste an exclusive selection of both and debate with Spanish specialist Sarah Jane which are to be preferred. Are local varieties always best? Should Tempranillo prevail? Or Garnacha? What is wrong with growing Chardonnay and Cabernet Sauvignon in Spain? \nDO Navarra is making available samples of 10 wines for 30 UK members. The discussion\, though\, will be relevant to members everywhere\, who are warmly invited to join in. \nAs with our previous ‘Let’s taste…’ seminars there will be a minimal charge of £10 to each member wishing to take part in the tasting and to receive samples (£15 to non-members) to cover our administrative costs. Members who do not receive the samples are very welcome to join the seminar\, in which case there is no charge.
URL:https://www.circleofwinewriters.org/event/lets-taste-and-discuss-navarra-authenticity-with-sarah-jane-evans-mw/
ATTACH;FMTTYPE=image/jpeg:https://www.circleofwinewriters.org/wp-content/uploads/2021/09/Navarra-1-e1632237327634.jpg
ORGANIZER;CN="Andrea Warren":MAILTO:administrator@circleofwinewriters.org
END:VEVENT
END:VCALENDAR