BEGIN:VCALENDAR
VERSION:2.0
PRODID:-//Circle of Wine Writers - ECPv6.3.5//NONSGML v1.0//EN
CALSCALE:GREGORIAN
METHOD:PUBLISH
X-WR-CALNAME:Circle of Wine Writers
X-ORIGINAL-URL:https://www.circleofwinewriters.org
X-WR-CALDESC:Events for Circle of Wine Writers
REFRESH-INTERVAL;VALUE=DURATION:PT1H
X-Robots-Tag:noindex
X-PUBLISHED-TTL:PT1H
BEGIN:VTIMEZONE
TZID:Europe/London
BEGIN:DAYLIGHT
TZOFFSETFROM:+0000
TZOFFSETTO:+0100
TZNAME:BST
DTSTART:20210328T010000
END:DAYLIGHT
BEGIN:STANDARD
TZOFFSETFROM:+0100
TZOFFSETTO:+0000
TZNAME:GMT
DTSTART:20211031T010000
END:STANDARD
END:VTIMEZONE
BEGIN:VEVENT
DTSTART;TZID=Europe/London:20211104T160000
DTEND;TZID=Europe/London:20211104T170000
DTSTAMP:20260421T140413
CREATED:20211027T145135Z
LAST-MODIFIED:20211027T151102Z
UID:49003-1636041600-1636045200@www.circleofwinewriters.org
SUMMARY:CWW - 'Let's talk about Willamette Valley Sparkling Wines'
DESCRIPTION:Join us on Thursday 4 November at 4 pm for a seminar featuring three of the Willamette Valley’s most respected sparkling wine producers for a stimulating panel discussion on the history – and diversity – of Willamette Valley traditional method\, and why it has an advantage over most other sparkling winemaking regions beyond Champagne. CWW member L M Archer will Chair the presentation. \nThe presentation lasts around 40 minutes and is followed by a Q&A session. Check out the Circle’s FB page or your email for details about this week’s topic and also for the link to join us. Please advise if you wish guests to attend. See you then. \nJoin Zoom Meeting\nhttps://us06web.zoom.us/j/87991550588?pwd=Tkx0OWVQZ2Z1dUlUUy9ycHNPRVI3Zz09 \nMeeting ID: 879 9155 0588\nPasscode: 564306 \n 
URL:https://www.circleofwinewriters.org/event/cww-lets-talk-about-willamette-valley-sparkling-wines/
ATTACH;FMTTYPE=image/png:https://www.circleofwinewriters.org/wp-content/uploads/2021/10/Screen-Shot-2021-10-27-at-15.42.29-1.png
ORGANIZER;CN="Circle of Wine Writers":MAILTO:administrator@circleofwinewriters.org
END:VEVENT
END:VCALENDAR