BEGIN:VCALENDAR
VERSION:2.0
PRODID:-//Circle of Wine Writers - ECPv6.3.5//NONSGML v1.0//EN
CALSCALE:GREGORIAN
METHOD:PUBLISH
X-ORIGINAL-URL:https://www.circleofwinewriters.org
X-WR-CALDESC:Events for Circle of Wine Writers
REFRESH-INTERVAL;VALUE=DURATION:PT1H
X-Robots-Tag:noindex
X-PUBLISHED-TTL:PT1H
BEGIN:VTIMEZONE
TZID:Europe/London
BEGIN:DAYLIGHT
TZOFFSETFROM:+0000
TZOFFSETTO:+0100
TZNAME:BST
DTSTART:20210328T010000
END:DAYLIGHT
BEGIN:STANDARD
TZOFFSETFROM:+0100
TZOFFSETTO:+0000
TZNAME:GMT
DTSTART:20211031T010000
END:STANDARD
END:VTIMEZONE
BEGIN:VEVENT
DTSTART;TZID=Europe/London:20211118T173000
DTEND;TZID=Europe/London:20211118T183000
DTSTAMP:20260421T140441
CREATED:20211027T150649Z
LAST-MODIFIED:20211027T151515Z
UID:49007-1637256600-1637260200@www.circleofwinewriters.org
SUMMARY:CWW - 'Let’s talk about Wine Miles: the New Zealand perspective\, with Ed Massey'
DESCRIPTION:Join us for this seminar when our guest speaker will be Ed Massey\, general manager sustainability at New Zealand Winegrowers and he will discuss ‘wine miles’ from the NZ perspective. \nThis event will be held at 5.30 pm (GMT). The presentation lasts around 40 minutes and is followed by a Q&A session. Check out the Circle’s FB page or your email for details about this week’s topic and also for the link to join us. \nMore details to follow. \nPlease advise if you wish guests to attend. See you then. \nNovember 18th\, 5.30pm:
URL:https://www.circleofwinewriters.org/event/cww-lets-talk-about-wine-miles-the-new-zealand-perspective-with-ed-massey-general-manager-sustainability-at-nz-winegrowers/
ATTACH;FMTTYPE=image/jpeg:https://www.circleofwinewriters.org/wp-content/uploads/2021/10/CWWNZEd-Massey.jpg
ORGANIZER;CN="Circle of Wine Writers":MAILTO:administrator@circleofwinewriters.org
END:VEVENT
END:VCALENDAR