BEGIN:VCALENDAR
VERSION:2.0
PRODID:-//Circle of Wine Writers - ECPv6.3.5//NONSGML v1.0//EN
CALSCALE:GREGORIAN
METHOD:PUBLISH
X-WR-CALNAME:Circle of Wine Writers
X-ORIGINAL-URL:https://www.circleofwinewriters.org
X-WR-CALDESC:Events for Circle of Wine Writers
REFRESH-INTERVAL;VALUE=DURATION:PT1H
X-Robots-Tag:noindex
X-PUBLISHED-TTL:PT1H
BEGIN:VTIMEZONE
TZID:Europe/London
BEGIN:DAYLIGHT
TZOFFSETFROM:+0000
TZOFFSETTO:+0100
TZNAME:BST
DTSTART:20210328T010000
END:DAYLIGHT
BEGIN:STANDARD
TZOFFSETFROM:+0100
TZOFFSETTO:+0000
TZNAME:GMT
DTSTART:20211031T010000
END:STANDARD
END:VTIMEZONE
BEGIN:VEVENT
DTSTART;TZID=Europe/London:20211205T150000
DTEND;TZID=Europe/London:20211206T200000
DTSTAMP:20260421T123635
CREATED:20211115T184619Z
LAST-MODIFIED:20211115T184619Z
UID:49049-1638716400-1638820800@www.circleofwinewriters.org
SUMMARY:ALIVE 2021: Ground-breaking Virtual Wine Festival unveiled
DESCRIPTION:A ground-breaking virtual wine festival for wine lovers\, foodies and budding botanists. The content is fascinating – find out about how intelligent plants are and how much they affect the wine we drink and its terroir. \nThis is organised by one of the most powerful women in the wine world (Drinks Business)\, France’s first female master of wine Isabelle Legeron. Alive! offers a truly special experience for anyone curious to understand more about the world of plants\, without which wine would not exist. \nTo book your ticket (£40)\, which offers exclusive two-day access to all sessions\, visit alive.rawwine.com. Festival goers can join in at any time on either day. \nDate: 5 & 6 December 2021.  \nFestival start: 10 am EST (3 pm GMT|4 pm CET|7 am PST). \nPlease contact Gemma Harris on: gemma@lineupmedia.co.uk for full details.
URL:https://www.circleofwinewriters.org/event/alive-2021-ground-breaking-virtual-wine-festival-unveiled/
ATTACH;FMTTYPE=image/jpeg:https://www.circleofwinewriters.org/wp-content/uploads/2021/11/calendarofeventsALIVE2021-e1636975458946.jpg
ORGANIZER;CN="Lineup Media":MAILTO:gemma@lineupmedia.co.uk
END:VEVENT
END:VCALENDAR