BEGIN:VCALENDAR
VERSION:2.0
PRODID:-//Circle of Wine Writers - ECPv6.3.5//NONSGML v1.0//EN
CALSCALE:GREGORIAN
METHOD:PUBLISH
X-ORIGINAL-URL:https://www.circleofwinewriters.org
X-WR-CALDESC:Events for Circle of Wine Writers
REFRESH-INTERVAL;VALUE=DURATION:PT1H
X-Robots-Tag:noindex
X-PUBLISHED-TTL:PT1H
BEGIN:VTIMEZONE
TZID:Europe/London
BEGIN:DAYLIGHT
TZOFFSETFROM:+0000
TZOFFSETTO:+0100
TZNAME:BST
DTSTART:20220327T010000
END:DAYLIGHT
BEGIN:STANDARD
TZOFFSETFROM:+0100
TZOFFSETTO:+0000
TZNAME:GMT
DTSTART:20221030T010000
END:STANDARD
END:VTIMEZONE
BEGIN:VEVENT
DTSTART;TZID=Europe/London:20220107T140000
DTEND;TZID=Europe/London:20220107T150000
DTSTAMP:20260421T111439
CREATED:20220126T123140Z
LAST-MODIFIED:20220126T123140Z
UID:49385-1641564000-1641567600@www.circleofwinewriters.org
SUMMARY:Let's talk about Virginia Wines - 2022 and beyond
DESCRIPTION:Join Virginia specialist and Frank Morgan wine writer to discuss the virtues of Virginia wine\, where their industry is today and where it’s going tomorrow.  Virginia is close to the hearts of many Circle members\, following successful trips there. This will be a valuable update as well as a fine introduction for those unfamiliar with the subject. Though Virginia has a long history with the grape dating back to Acte 12 of 1619 requiring all colonists to plant and tend grapevines\, the state’s wine industry began in earnest four decades ago. In that time\, Virginia has emerged as one of the most important regions in the US. In this webinar\, Frank will cover the state’s geological and grape diversity.
URL:https://www.circleofwinewriters.org/event/lets-talk-about-virginia-wines-2022-and-beyond/
ATTACH;FMTTYPE=image/jpeg:https://www.circleofwinewriters.org/wp-content/uploads/2022/01/221VirginiaFMorgan.jpg
ORGANIZER;CN="Circle of Wine Writers":MAILTO:administrator@circleofwinewriters.org
END:VEVENT
END:VCALENDAR