BEGIN:VCALENDAR
VERSION:2.0
PRODID:-//Circle of Wine Writers - ECPv6.3.5//NONSGML v1.0//EN
CALSCALE:GREGORIAN
METHOD:PUBLISH
X-ORIGINAL-URL:https://www.circleofwinewriters.org
X-WR-CALDESC:Events for Circle of Wine Writers
REFRESH-INTERVAL;VALUE=DURATION:PT1H
X-Robots-Tag:noindex
X-PUBLISHED-TTL:PT1H
BEGIN:VTIMEZONE
TZID:Europe/London
BEGIN:DAYLIGHT
TZOFFSETFROM:+0000
TZOFFSETTO:+0100
TZNAME:BST
DTSTART:20220327T010000
END:DAYLIGHT
BEGIN:STANDARD
TZOFFSETFROM:+0100
TZOFFSETTO:+0000
TZNAME:GMT
DTSTART:20221030T010000
END:STANDARD
END:VTIMEZONE
BEGIN:VEVENT
DTSTART;TZID=Europe/London:20220218T140000
DTEND;TZID=Europe/London:20220218T150000
DTSTAMP:20260421T095420
CREATED:20220126T122634Z
LAST-MODIFIED:20220126T122634Z
UID:49380-1645192800-1645196400@www.circleofwinewriters.org
SUMMARY:Let's talk about Fantastic Furmint and why it's the next great white grape
DESCRIPTION:For the second of the Circle’s February webinars\, we’re delighted to welcome back the Circle’s own expert on Eastern Europe\, Caroline Gilby MW. On the eve of Furmint Feb\, a week of celebration\, Caroline will take a look at Hungary’s flagship white grape and tell the story of the new generation of great dry whites from Tokaj and beyond and more….
URL:https://www.circleofwinewriters.org/event/lets-talk-about-fantastic-furmint-and-why-its-the-next-great-white-grape/
ATTACH;FMTTYPE=image/jpeg:https://www.circleofwinewriters.org/wp-content/uploads/2022/01/CGilbyMWBulgaria.jpg
ORGANIZER;CN="Circle of Wine Writers":MAILTO:administrator@circleofwinewriters.org
END:VEVENT
END:VCALENDAR