BEGIN:VCALENDAR
VERSION:2.0
PRODID:-//Circle of Wine Writers - ECPv6.3.5//NONSGML v1.0//EN
CALSCALE:GREGORIAN
METHOD:PUBLISH
X-WR-CALNAME:Circle of Wine Writers
X-ORIGINAL-URL:https://www.circleofwinewriters.org
X-WR-CALDESC:Events for Circle of Wine Writers
REFRESH-INTERVAL;VALUE=DURATION:PT1H
X-Robots-Tag:noindex
X-PUBLISHED-TTL:PT1H
BEGIN:VTIMEZONE
TZID:Europe/London
BEGIN:DAYLIGHT
TZOFFSETFROM:+0000
TZOFFSETTO:+0100
TZNAME:BST
DTSTART:20220327T010000
END:DAYLIGHT
BEGIN:STANDARD
TZOFFSETFROM:+0100
TZOFFSETTO:+0000
TZNAME:GMT
DTSTART:20221030T010000
END:STANDARD
END:VTIMEZONE
BEGIN:VEVENT
DTSTART;TZID=Europe/London:20220221T110000
DTEND;TZID=Europe/London:20220221T173000
DTSTAMP:20260421T095403
CREATED:20220131T142936Z
LAST-MODIFIED:20220131T142936Z
UID:49400-1645441200-1645464600@www.circleofwinewriters.org
SUMMARY:Wines of Hungary - Furmint February
DESCRIPTION:We’d love you to join us at Wines of Hungary’s Furmint tasting on Monday 21st February at Merchant Taylor’s Hall – for the opportunity to taste over 150 wines. \nTo keep things COVID-safe\, we are asking attendees to book in for one of the following sessions: \nSession 1: 11am-2pm\nFurmint and Terroir\, focus on single vineyards – Dr Caroline Gilby MW\nSign up HERE \nSession 2: 2.30-5.30pm\nSparkling Furmint\, introducing Furmint bubbles – Dr Orsi Szentkiralyi\nSign up HERE \nFull details are below\, along with the details of two masterclasses.  If you would like to join one of the masterclasses\, please reply with your name\, role and company\, and I will add your name to the list of the session you would like to attend. Please note that places are limited and will be allocated on a first come first served basis.
URL:https://www.circleofwinewriters.org/event/wines-of-hungary-furmint-february/
LOCATION:Merchant Taylors Hall\, 30 Threadneedle Street\, London\, EC2R 8JB
ATTACH;FMTTYPE=image/jpeg:https://www.circleofwinewriters.org/wp-content/uploads/2022/01/calendarofeventsWOHFurmintTokaj-wine-district-scaled.jpg
ORGANIZER;CN="R&R Teamwork":MAILTO:eleanor@randr.co.uk
END:VEVENT
END:VCALENDAR