BEGIN:VCALENDAR
VERSION:2.0
PRODID:-//Circle of Wine Writers - ECPv6.3.5//NONSGML v1.0//EN
CALSCALE:GREGORIAN
METHOD:PUBLISH
X-WR-CALNAME:Circle of Wine Writers
X-ORIGINAL-URL:https://www.circleofwinewriters.org
X-WR-CALDESC:Events for Circle of Wine Writers
REFRESH-INTERVAL;VALUE=DURATION:PT1H
X-Robots-Tag:noindex
X-PUBLISHED-TTL:PT1H
BEGIN:VTIMEZONE
TZID:Europe/London
BEGIN:DAYLIGHT
TZOFFSETFROM:+0000
TZOFFSETTO:+0100
TZNAME:BST
DTSTART:20220327T010000
END:DAYLIGHT
BEGIN:STANDARD
TZOFFSETFROM:+0100
TZOFFSETTO:+0000
TZNAME:GMT
DTSTART:20221030T010000
END:STANDARD
END:VTIMEZONE
BEGIN:VEVENT
DTSTART;TZID=Europe/London:20221104T140000
DTEND;TZID=Europe/London:20221104T150000
DTSTAMP:20260420T190603
CREATED:20221020T095831Z
LAST-MODIFIED:20221020T100248Z
UID:50950-1667570400-1667574000@www.circleofwinewriters.org
SUMMARY:Let's talk about Crus Bourgeois du Médoc: today and tomorrow
DESCRIPTION:Let’s talk about Crus Bourgeois du Médoc: today and tomorrow – Friday 4th November\, 2 pm GMT \nFranck Bijon\, President of the Crus Bourgeois du Médoc\, will talk about the current classification launched in 2020. He will also present the roadmap for the Crus Bourgeois for the coming years that include the future classifications of 2025 and 2030\, the environmental commitment and the global strategy for the group. \n Franck Bijon\, 59\, has been Managing Director of the Allianz wine properties since 1989: Château Larose Trintaudon Cru Bourgeois Supérieur\, Château Larose Perganson Cru Bourgeois Supérieur and Château Arnauld\, Crus Bourgeois Exceptionnel in AOC Haut-Médoc\, and Château Tour de Pez Cru Bourgeois in AOC Saint Estèphe. \nA great believer in the diversity of the Médoc’s winegrowing structures\, Franck Bijon hopes to strengthen the pride\, ambition and energy of a family of producers with a view to promoting the collective brand of the Crus Bourgeois du Médoc. “Today\, the significant changes in our ecosystem require us to adapt our strategy\, demonstrating resilience and an ability to listen.” \nPlease note their weblink & social media tags:\nwww.crus-bourgeois.com\nhttps://twitter.com/CrusBourgeois\nhttps://www.instagram.com/crus_bourgeois_du_medoc/\nhttps://www.facebook.com/crusbourgeois/\nWe look forward to welcoming you on Friday 4 November at 2.00 pm GMT.   The session\, including Q&As\, will last for approximately one hour. To join\, follow the link below. Guests will be very welcome\, but please let Andrea know their names.    \nJoin Zoom Meeting\nhttps://us06web.zoom.us/j/87948630914?pwd=NEt5a28xV2xsUDlLUXN6aklBaGl5Zz09 \nMeeting ID: 879 4863 0914\nPasscode: 922932
URL:https://www.circleofwinewriters.org/event/lets-talk-about-crus-bourgeois-du-medoc-today-and-tomorrow/
ATTACH;FMTTYPE=image/jpeg:https://www.circleofwinewriters.org/wp-content/uploads/2022/10/CruBourgeoisLogo.jpg
ORGANIZER;CN="Circle of Wine Writers":MAILTO:administrator@circleofwinewriters.org
END:VEVENT
END:VCALENDAR