BEGIN:VCALENDAR
VERSION:2.0
PRODID:-//Circle of Wine Writers - ECPv6.3.5//NONSGML v1.0//EN
CALSCALE:GREGORIAN
METHOD:PUBLISH
X-WR-CALNAME:Circle of Wine Writers
X-ORIGINAL-URL:https://www.circleofwinewriters.org
X-WR-CALDESC:Events for Circle of Wine Writers
REFRESH-INTERVAL;VALUE=DURATION:PT1H
X-Robots-Tag:noindex
X-PUBLISHED-TTL:PT1H
BEGIN:VTIMEZONE
TZID:Europe/London
BEGIN:DAYLIGHT
TZOFFSETFROM:+0000
TZOFFSETTO:+0100
TZNAME:BST
DTSTART:20220327T010000
END:DAYLIGHT
BEGIN:STANDARD
TZOFFSETFROM:+0100
TZOFFSETTO:+0000
TZNAME:GMT
DTSTART:20221030T010000
END:STANDARD
END:VTIMEZONE
BEGIN:VEVENT
DTSTART;TZID=Europe/London:20221107T100000
DTEND;TZID=Europe/London:20221107T113000
DTSTAMP:20260420T190639
CREATED:20221010T154309Z
LAST-MODIFIED:20221010T154309Z
UID:50910-1667815200-1667820600@www.circleofwinewriters.org
SUMMARY:Australian and New Zealand Pinot Noir webinar
DESCRIPTION:Wine Australia and New Zealand Winegrowers are delighted to be teaming up again in an exclusive virtual collaboration showcasing the unique qualities of our Pinot Noir. \nJoin Masters of Wine Anne Krebiehl and Peter McCombie for a fascinating discussion of eight regional styles from across our respective countries. \nKnown as the heartbreak grape due to its notoriously fickle and hard to grow nature\, Pinot Noir thrives in Australia and New Zealand\, with winemakers crafting unique cool climate expressions. \nTake a trip through Australia’s Mornington Peninsula\, Yarra Valley\, Adelaide Hills and Tasmania and New Zealand’s Martinborough\, North Canterbury\, Marlborough\, and Central Otago. \nFind out how Pinot Noir has found success down under. Explore the cooling influence of the ocean and altitude\, as well as the diversity and impact of soils\, climate and winemaking. Offering freshness\, beauty and exceptional value\, discover why Pinot Noir from these regions shines on the international stage. \nAnne and Peter will also share their insights and reveal what’s special for them about Antipodean Pinot Noir. \nThis webinar is free and open to all. You’re welcome to share details with colleagues and wine friends. \nFor more information about the session and the speakers\, and to register\, please visit https://conversations.australianwine.com/wine-australia/Australian-and-New-Zealand-Pinot-Noir
URL:https://www.circleofwinewriters.org/event/australian-and-new-zealand-pinot-noir-webinar/
ATTACH;FMTTYPE=image/jpeg:https://www.circleofwinewriters.org/wp-content/uploads/2022/10/calendarofeventsUK_Convo_NZ-AUPinot_BM-Email.jpg
ORGANIZER;CN="Wine Australia":MAILTO:Emma.Baumann@wineaustralia.com
END:VEVENT
END:VCALENDAR