BEGIN:VCALENDAR
VERSION:2.0
PRODID:-//Circle of Wine Writers - ECPv6.3.5//NONSGML v1.0//EN
CALSCALE:GREGORIAN
METHOD:PUBLISH
X-ORIGINAL-URL:https://www.circleofwinewriters.org
X-WR-CALDESC:Events for Circle of Wine Writers
REFRESH-INTERVAL;VALUE=DURATION:PT1H
X-Robots-Tag:noindex
X-PUBLISHED-TTL:PT1H
BEGIN:VTIMEZONE
TZID:Europe/London
BEGIN:DAYLIGHT
TZOFFSETFROM:+0000
TZOFFSETTO:+0100
TZNAME:BST
DTSTART:20220327T010000
END:DAYLIGHT
BEGIN:STANDARD
TZOFFSETFROM:+0100
TZOFFSETTO:+0000
TZNAME:GMT
DTSTART:20221030T010000
END:STANDARD
END:VTIMEZONE
BEGIN:VEVENT
DTSTART;TZID=Europe/London:20221115T100000
DTEND;TZID=Europe/London:20221115T170000
DTSTAMP:20260420T174424
CREATED:20221020T095001Z
LAST-MODIFIED:20221020T095001Z
UID:50945-1668506400-1668531600@www.circleofwinewriters.org
SUMMARY:Crus Bourgeois du Médoc Tasting 2022
DESCRIPTION:INVITATION \nPlease join us for the Crus Bourgeois du Médoc Tasting 2022 \nTuesday 15th November 2022 \nWe will be tasting a selection of wines from across the 2018\, 2019 & 2020 vintages from the 3 tier system: Cru Bourgeois\, Cru Bourgeois Supérieur and Cru Bourgeois Exceptionnel.  \nThe tasting will be split into two different sessions\, a morning session and an afternoon session as follows: \nMorning Session: 10am to 1pm\nAfternoon Session: 2pm to 5pm\nPlease contact louise@phillips-hill.co.uk or jo@bellevillemarketing.com to register your interest and indicate your preferred time slot. \nVenue:\nThe Institute of Directors\nThe Waterloo Room (1st floor)\n116 Pall Mall\nLondon\, SW1Y 5ED\nTuesday 15th November 2022\n10am to 1pm   **  2pm to 5pm \nFor more information please contact louise@phillips-hill.co.uk or jo@bellevillemarketing.com
URL:https://www.circleofwinewriters.org/event/crus-bourgeois-du-medoc-tasting-2022/
LOCATION:The Institute of Directors\, 116 Pall Mall\, London\, SW1Y 5ED\, United Kingdom
ATTACH;FMTTYPE=image/jpeg:https://www.circleofwinewriters.org/wp-content/uploads/2022/10/CruBourgeoisLogo.jpg
ORGANIZER;CN="Phillips-Hill Wine Marketing%2C PR & Events":MAILTO:louise@phillips-hill.co.uk
END:VEVENT
BEGIN:VEVENT
DTSTART;TZID=Europe/London:20221115T170000
DTEND;TZID=Europe/London:20221115T180000
DTSTAMP:20260420T174424
CREATED:20221010T154816Z
LAST-MODIFIED:20221010T154902Z
UID:50907-1668531600-1668535200@www.circleofwinewriters.org
SUMMARY:New York State of Wine: The Elements episode 1 with Jamie Goode
DESCRIPTION:The New York State of Wine webinar series is back for a third year\, and this time\, we’re focusing on The Elements. \nWe’d love you to join us for the first webinar – Earth – on Tuesday 15th November at 5pm. \nNew York wine is synonymous with extreme climate—from the influence of water on all sides to the varied soils from retreating glaciers and sea deposits—and with over 60+ wine grape varieties grown there\, it’s no surprise the region thrives on diversity.  \nIn this inaugural episode New York State of Wine: The Elements\, Jamie Goode will lead a panel of New York winemakers in a roundtable discussion to dig into the diverse terroirs of New York’s growing regions.  \nFrom the blue slate of the Finger Lakes to Long Island’s unique glacial soils\, New York offers winemakers a dynamic home for countless varieties. Join us to find out what winemakers have to say about how soils impact their viticulture and winemaking decisions.   \nJamie will be joined by:\n•         Kareem Massoud\, Paumanok Vineyards\n•         Morten Hallgren\, Ravines Wines\n•         Kelby James Russell\, Red Newt Cellars \nEpisode 1: Earth – Tuesday\, 15th November | 5:00 PM – 6:00 PM (UK)\nRegister: https://bit.ly/register-new-york-state-the-elements-webinar  \nWe have a limited number of tasting packs available (6 x 100ml samples). If you would like to receive a sample pack\, please register and reply with your address and any special delivery details – these will be allocated on a first come\, first served basis.
URL:https://www.circleofwinewriters.org/event/new-york-state-of-wine-the-elements-episode-1-with-jamie-goode/
ATTACH;FMTTYPE=image/png:https://www.circleofwinewriters.org/wp-content/uploads/2022/10/calendarofeventsNYStateofWineTheElementsEp1.png
ORGANIZER;CN="R&R Teamwork":MAILTO:eleanor@randr.co.uk
END:VEVENT
END:VCALENDAR