BEGIN:VCALENDAR
VERSION:2.0
PRODID:-//Circle of Wine Writers - ECPv6.3.5//NONSGML v1.0//EN
CALSCALE:GREGORIAN
METHOD:PUBLISH
X-ORIGINAL-URL:https://www.circleofwinewriters.org
X-WR-CALDESC:Events for Circle of Wine Writers
REFRESH-INTERVAL;VALUE=DURATION:PT1H
X-Robots-Tag:noindex
X-PUBLISHED-TTL:PT1H
BEGIN:VTIMEZONE
TZID:Europe/London
BEGIN:DAYLIGHT
TZOFFSETFROM:+0000
TZOFFSETTO:+0100
TZNAME:BST
DTSTART:20220327T010000
END:DAYLIGHT
BEGIN:STANDARD
TZOFFSETFROM:+0100
TZOFFSETTO:+0000
TZNAME:GMT
DTSTART:20221030T010000
END:STANDARD
END:VTIMEZONE
BEGIN:VEVENT
DTSTART;TZID=Europe/London:20221117T100000
DTEND;TZID=Europe/London:20221117T110000
DTSTAMP:20260420T174429
CREATED:20220907T113012Z
LAST-MODIFIED:20220907T113012Z
UID:50732-1668679200-1668682800@www.circleofwinewriters.org
SUMMARY:CWW - Let's talk about Alsace Rocks - Riesling with our host Foulques Aulagnon of the CIVA
DESCRIPTION:For this November Circle webinar\, we are delighted to welcome host Foulques Aulagnon of the CIVA who will be joined by Oliver Humbrecht (Domaine Zind-Humbrecht) and Etienne Loew (Domaine Loew). \nThis online tasting will feature 6 Rieslings which have been carefully selected to allow you to taste the effect of different terroirs from the region on this one varietal. An event not to be missed.  Full details to be sent out shortly. Apologies but samples are available for delivery to UK addresses and a minimal admin fee will be charged as before. \nPlease join us to find out how the wines of this small region have achieved global success on the 21st\, more details to follow.
URL:https://www.circleofwinewriters.org/event/cww-lets-talk-about-alsace-rocks-riesling-with-our-host-foulques-aulagnon-of-the-civa/
ATTACH;FMTTYPE=image/jpeg:https://www.circleofwinewriters.org/wp-content/uploads/2022/09/calendarofeventsAlsace-Rocks-22-Niedermorschwihr-CopyrightZVARDON-ConseilVinsAlsace-scaled-e1662550038937.jpg
ORGANIZER;CN="Circle of Wine Writers":MAILTO:administrator@circleofwinewriters.org
END:VEVENT
END:VCALENDAR