BEGIN:VCALENDAR
VERSION:2.0
PRODID:-//Circle of Wine Writers - ECPv6.3.5//NONSGML v1.0//EN
CALSCALE:GREGORIAN
METHOD:PUBLISH
X-ORIGINAL-URL:https://www.circleofwinewriters.org
X-WR-CALDESC:Events for Circle of Wine Writers
REFRESH-INTERVAL;VALUE=DURATION:PT1H
X-Robots-Tag:noindex
X-PUBLISHED-TTL:PT1H
BEGIN:VTIMEZONE
TZID:Europe/London
BEGIN:DAYLIGHT
TZOFFSETFROM:+0000
TZOFFSETTO:+0100
TZNAME:BST
DTSTART:20220327T010000
END:DAYLIGHT
BEGIN:STANDARD
TZOFFSETFROM:+0100
TZOFFSETTO:+0000
TZNAME:GMT
DTSTART:20221030T010000
END:STANDARD
END:VTIMEZONE
BEGIN:VEVENT
DTSTART;TZID=Europe/London:20221121T190000
DTEND;TZID=Europe/London:20221121T220000
DTSTAMP:20260420T174428
CREATED:20221020T085221Z
LAST-MODIFIED:20221020T085221Z
UID:50938-1669057200-1669068000@www.circleofwinewriters.org
SUMMARY:Hospices de Beaune Events - + invitation to dinner - 21 November
DESCRIPTION:Crurated are delighted to announce their annual series of events during the Hospices de Beaune week! \nThey have room for a few journalists on November 21st for a dinner with Domaine Pierre Girardin and Champagne Chartogne Taillet. More details are below and the event is taking place at Chateau de Puligny-Montrachet. \nThe event\, wines\, and dinner are covered by Crurated. Travel and overnight stay is not covered. If this is of interest please contact Michael Volpatt directly on email: michaelvolpatt@gmail.com. They have two seats available at this point. \nMessage from Crurated:\nJoin us in Burgundy at the beautiful Château de Puligny-Montrachet to enjoy and share remarkable wines with producers\, connoisseurs and wine-geeks from all over the world! \nDomaine Pierre Girardin & Champagne Chartogne Taillet – 21 November 2022\nPierre Vincent Girardin (Domaine Pierre Girardin)\nThe 23-year-old Pierre Vincent Girardin today runs one of Burgundy’s most modern wineries and the wines speak for themselves – precise\, bright and with a reductive signature\, they represent the stylistic direction the producer has chosen. No other young generation winemaker in Meursault or even Côte de Beaune is making more noise than Pierre Girardin. Portfolio\, combined of domaine holdings and négociant operation\, is jaw-dropping with some of Burgundy’s most storied appellations.\nAlexandre Chartogne (Champagne Chartogne-Taillet)\nThe ascent of Chartogne-Taillet continues. Inspired by his mentor Anselme Selosse\, Alexandre Chartogne makes a number of extremely compelling and sought-after single-parcel bottlings. Obsessed with exploration of Merfy’s soil and its surrounding climats\, a small village where the domaine can be found\, Chartogne-Taillet has soared to new heights under the supervision of this determined and hardworking young generation winemaker. Chartogne now also crafts champagne from Avize Grand Cru.
URL:https://www.circleofwinewriters.org/event/hospices-de-beaune-events-invitation-to-dinner-21-november/
ATTACH;FMTTYPE=image/jpeg:https://www.circleofwinewriters.org/wp-content/uploads/2022/10/Crurated-Nov_21_22-scaled.jpg
ORGANIZER;CN="Crurated Ltd":MAILTO:michaelvolpatt@gmail.com
END:VEVENT
END:VCALENDAR