BEGIN:VCALENDAR
VERSION:2.0
PRODID:-//Circle of Wine Writers - ECPv6.3.5//NONSGML v1.0//EN
CALSCALE:GREGORIAN
METHOD:PUBLISH
X-ORIGINAL-URL:https://www.circleofwinewriters.org
X-WR-CALDESC:Events for Circle of Wine Writers
REFRESH-INTERVAL;VALUE=DURATION:PT1H
X-Robots-Tag:noindex
X-PUBLISHED-TTL:PT1H
BEGIN:VTIMEZONE
TZID:Europe/London
BEGIN:DAYLIGHT
TZOFFSETFROM:+0000
TZOFFSETTO:+0100
TZNAME:BST
DTSTART:20220327T010000
END:DAYLIGHT
BEGIN:STANDARD
TZOFFSETFROM:+0100
TZOFFSETTO:+0000
TZNAME:GMT
DTSTART:20221030T010000
END:STANDARD
END:VTIMEZONE
BEGIN:VEVENT
DTSTART;TZID=Europe/London:20221122T120000
DTEND;TZID=Europe/London:20221122T153000
DTSTAMP:20260420T174425
CREATED:20221108T095344Z
LAST-MODIFIED:20221108T095405Z
UID:51030-1669118400-1669131000@www.circleofwinewriters.org
SUMMARY:Antiche Terre\, Venete tasting - 22 November 2022
DESCRIPTION:ANTICHE TERRE VENETE\ninvites you to discover its range of wines\, featuring Valpolicella\, Valpolicella Ripasso and Amarone \nSituated in the Valpantena\, undiscovered jewel in the Valpolicella Classico region\, the wines showcase a respect for tradition along with state of the art winemaking. \nHosted By : Head Winemaker\, Davide Degani  \nDate: Tuesday 22nd November 2022\nLocation : St James Room\, 67 Pall Mall\, London W1 \nTiming: Drop in Tasting – Noon til 3.30pm\,\nSeated Masterclass 1pm-2pm \nRSVP by return to kate@aswinesolutions.com \nMore about Antiche Terre Venete: www.anticheterrevenete.it/en/ \nIf you would like to attend – please let me know. \nKind regards \nKate \nKate Sweet – Director\nAS Wine Solutions\nM: +44 7939 582151\nE: kate@aswinesolutions.com
URL:https://www.circleofwinewriters.org/event/antiche-terre-venete-tasting-22-november-2022/
LOCATION:China Exchange\, 32A Gerrard Street\, London\, W1D 6JA
ATTACH;FMTTYPE=image/png:https://www.circleofwinewriters.org/wp-content/uploads/2022/11/Antiche-Terre-Venete-e1667901209495.png
ORGANIZER;CN="AS Wine Solutions":MAILTO:kate@aswinesolutions.com
END:VEVENT
END:VCALENDAR