BEGIN:VCALENDAR
VERSION:2.0
PRODID:-//Circle of Wine Writers - ECPv6.3.5//NONSGML v1.0//EN
CALSCALE:GREGORIAN
METHOD:PUBLISH
X-WR-CALNAME:Circle of Wine Writers
X-ORIGINAL-URL:https://www.circleofwinewriters.org
X-WR-CALDESC:Events for Circle of Wine Writers
REFRESH-INTERVAL;VALUE=DURATION:PT1H
X-Robots-Tag:noindex
X-PUBLISHED-TTL:PT1H
BEGIN:VTIMEZONE
TZID:Europe/London
BEGIN:DAYLIGHT
TZOFFSETFROM:+0000
TZOFFSETTO:+0100
TZNAME:BST
DTSTART:20230326T010000
END:DAYLIGHT
BEGIN:STANDARD
TZOFFSETFROM:+0100
TZOFFSETTO:+0000
TZNAME:GMT
DTSTART:20231029T010000
END:STANDARD
END:VTIMEZONE
BEGIN:VEVENT
DTSTART;VALUE=DATE:20230227
DTEND;VALUE=DATE:20230302
DTSTAMP:20260420T115134
CREATED:20221223T120044Z
LAST-MODIFIED:20221223T123157Z
UID:51334-1677456000-1677715199@www.circleofwinewriters.org
SUMMARY:VINS D’ALSACE LAUNCH 2ND EDITION OF  THE MILLÉSIMES ALSACE DIGITASTING®
DESCRIPTION:Vins d’Alsace launch the 2nd edition of the Millésimes Alsace Digitasting®  following the successful 2021 world premiere. \nTrade show exclusively for professionals. \nTo register free of charge for the trade show (27TH\, 28TH FEBRUARY AND 1ST MARCH 2023) or to order your tasting boxes from now until 9 January 2023 please follow the following link:  www.millesimes-alsace.com \n  \n 
URL:https://www.circleofwinewriters.org/event/vins-dalsace-launch-2nd-edition-of-the-millesimes-alsace-digitasting/
ATTACH;FMTTYPE=image/jpeg:https://www.circleofwinewriters.org/wp-content/uploads/2022/12/22EWAlsace.jpg
ORGANIZER;CN="Emma Wellings PR":MAILTO:emma@ew-pr.co.uk
END:VEVENT
END:VCALENDAR