BEGIN:VCALENDAR
VERSION:2.0
PRODID:-//Circle of Wine Writers - ECPv6.3.5//NONSGML v1.0//EN
CALSCALE:GREGORIAN
METHOD:PUBLISH
X-ORIGINAL-URL:https://www.circleofwinewriters.org
X-WR-CALDESC:Events for Circle of Wine Writers
REFRESH-INTERVAL;VALUE=DURATION:PT1H
X-Robots-Tag:noindex
X-PUBLISHED-TTL:PT1H
BEGIN:VTIMEZONE
TZID:Europe/London
BEGIN:DAYLIGHT
TZOFFSETFROM:+0000
TZOFFSETTO:+0100
TZNAME:BST
DTSTART:20230326T010000
END:DAYLIGHT
BEGIN:STANDARD
TZOFFSETFROM:+0100
TZOFFSETTO:+0000
TZNAME:GMT
DTSTART:20231029T010000
END:STANDARD
END:VTIMEZONE
BEGIN:VEVENT
DTSTART;TZID=Europe/London:20230307T103000
DTEND;TZID=Europe/London:20230307T163000
DTSTAMP:20260420T115209
CREATED:20230227T125805Z
LAST-MODIFIED:20230227T125805Z
UID:51878-1678185000-1678206600@www.circleofwinewriters.org
SUMMARY:The first UK trade tasting & masterclass of wines from Denomination of Origin Toro
DESCRIPTION:The first UK trade tasting & masterclass of wines from Denomination of Origin Toro – where native grape variety Tinta de Toro stands out. \nSpain is one of today’s most exciting winemaking countries and Toro is at the forefront of innovation. \nToro is famed for its inky black\, richly textured red wines made from the native Tinta de Toro grape variety – a unique expression of Tempranillo from an exciting region. \nTop Toro producers create outstanding wines; full-bodied\, structured and with enormous ageing potential\, from this unique terroir. And they will be coming together for the first time in the UK to show their very best wines. \nJoin us to discover these wonderful wines\, taken by Christopher Columbus on his voyage of discovery to the Americas. \nDO Toro First Showcase Tasting \nTwenty outstanding wine producers will be showing their very best wines\, a variety of styles from DO Toro’s diverse geographical sub zones – the Tierra del Vino\, Valle del Guareña\, Tierra de Toro and Tierra del Pan & Tierra de Campos. \nTaste some fabulous wines matched with great food from the region. Sarah Jane Evans MW will lead a tasting on award-winning wines from DO Toro – the very best wines tasted never before in the UK in a DO Toro Masterclass* \nRegister here: D.O. Toro UK Trade Tasting & Masterclass Tickets\, Tue 7 Mar 2023 at 10:30 | Eventbrite \n*Right of admission reserved
URL:https://www.circleofwinewriters.org/event/the-first-uk-trade-tasting-masterclass-of-wines-from-denomination-of-origin-toro/
LOCATION:1 Great George St\, London\, SW1P 3AA
ATTACH;FMTTYPE=image/jpeg:https://www.circleofwinewriters.org/wp-content/uploads/2023/02/calendarofeventstintadtoro-scaled-e1677502214264.jpg
ORGANIZER;CN="Bespoke Drinks Media":MAILTO:charlotte@bespokedrinksmedia.com
END:VEVENT
END:VCALENDAR