BEGIN:VCALENDAR
VERSION:2.0
PRODID:-//Circle of Wine Writers - ECPv6.3.5//NONSGML v1.0//EN
CALSCALE:GREGORIAN
METHOD:PUBLISH
X-WR-CALNAME:Circle of Wine Writers
X-ORIGINAL-URL:https://www.circleofwinewriters.org
X-WR-CALDESC:Events for Circle of Wine Writers
REFRESH-INTERVAL;VALUE=DURATION:PT1H
X-Robots-Tag:noindex
X-PUBLISHED-TTL:PT1H
BEGIN:VTIMEZONE
TZID:Europe/London
BEGIN:DAYLIGHT
TZOFFSETFROM:+0000
TZOFFSETTO:+0100
TZNAME:BST
DTSTART:20230326T010000
END:DAYLIGHT
BEGIN:STANDARD
TZOFFSETFROM:+0100
TZOFFSETTO:+0000
TZNAME:GMT
DTSTART:20231029T010000
END:STANDARD
END:VTIMEZONE
BEGIN:VEVENT
DTSTART;TZID=Europe/London:20230505T140000
DTEND;TZID=Europe/London:20230505T150000
DTSTAMP:20260420T084657
CREATED:20230327T122218Z
LAST-MODIFIED:20230327T124005Z
UID:51940-1683295200-1683298800@www.circleofwinewriters.org
SUMMARY:Let's talk about... Wine lexicons & vocabularies – increasing diversity
DESCRIPTION:Let’s talk about… Wine lexicons & vocabularies – increasing diversity with Meg Maker \nWe do you hope you join us and please watch this space for more details which will be posted when we have them. \n 
URL:https://www.circleofwinewriters.org/event/copy-of-lets-talk-about-wine-lexicons-vocabularies-increasing-diversity/
ATTACH;FMTTYPE=image/jpeg:https://www.circleofwinewriters.org/wp-content/uploads/2021/06/2021Photo-MHMaker-e1679919642124.jpg
ORGANIZER;CN="Circle of Wine Writers":MAILTO:administrator@circleofwinewriters.org
END:VEVENT
END:VCALENDAR