BEGIN:VCALENDAR
VERSION:2.0
PRODID:-//Circle of Wine Writers - ECPv6.3.5//NONSGML v1.0//EN
CALSCALE:GREGORIAN
METHOD:PUBLISH
X-ORIGINAL-URL:https://www.circleofwinewriters.org
X-WR-CALDESC:Events for Circle of Wine Writers
REFRESH-INTERVAL;VALUE=DURATION:PT1H
X-Robots-Tag:noindex
X-PUBLISHED-TTL:PT1H
BEGIN:VTIMEZONE
TZID:Europe/London
BEGIN:DAYLIGHT
TZOFFSETFROM:+0000
TZOFFSETTO:+0100
TZNAME:BST
DTSTART:20230326T010000
END:DAYLIGHT
BEGIN:STANDARD
TZOFFSETFROM:+0100
TZOFFSETTO:+0000
TZNAME:GMT
DTSTART:20231029T010000
END:STANDARD
END:VTIMEZONE
BEGIN:VEVENT
DTSTART;TZID=Europe/London:20230519T140000
DTEND;TZID=Europe/London:20230519T150000
DTSTAMP:20260420T084648
CREATED:20230327T122756Z
LAST-MODIFIED:20230509T122107Z
UID:51944-1684504800-1684508400@www.circleofwinewriters.org
SUMMARY:Let's talk about... The diversity of the terroir of the Lebanese Mountains
DESCRIPTION:Let’s talk about… The diversity of the terroir of the Lebanese Mountains\, with Gabi Rivero and Jad El Esta  \nJoin our presenters from leading new-wave producer Ixsir to explore the ancient and modern story of wine in Lebanon’s exceptional terroir\, where vineyards rising to 1\,800 metres are among the highest in the northern hemisphere. \nAs they highlight the country’s 5\,000-year vinous history\, Gabi\, winemaker and co-founder\, and Jad\, CEO\, will explain how Ixsir has undertaken detailed studies of historic vineyard sites across Lebanon and has focused on replanting the best with appropriate grape varieties as well as exploiting existing old vines. It is the complex\, multi-faceted terroir\, they say\, that decides which wines the company makes. \nThis should be a fascinating insight into the latest approaches in a country re-emerging as an important wine producer. \nTo learn more please log in on Friday 19th May at 2pm BST. The session\, including Q&As\, will last for approximately one hour. To join\, follow the link below. Guests will be very welcome\, but please let Andrea know their names. \nJoin Zoom Meeting\nhttps://us06web.zoom.us/j/82787672318?pwd=VGJaalFwSmhGaUliL3lsVEZ6TitCQT09 \nMeeting ID: 827 8767 2318\nPasscode: 641503
URL:https://www.circleofwinewriters.org/event/lets-talk-about-the-wines-of-ixsir-lebanon/
ATTACH;FMTTYPE=image/jpeg:https://www.circleofwinewriters.org/wp-content/uploads/2023/03/Ixsir-Jezzine-2-e1683634773184.jpg
ORGANIZER;CN="Circle of Wine Writers":MAILTO:administrator@circleofwinewriters.org
END:VEVENT
END:VCALENDAR