BEGIN:VCALENDAR
VERSION:2.0
PRODID:-//Circle of Wine Writers - ECPv6.3.5//NONSGML v1.0//EN
CALSCALE:GREGORIAN
METHOD:PUBLISH
X-ORIGINAL-URL:https://www.circleofwinewriters.org
X-WR-CALDESC:Events for Circle of Wine Writers
REFRESH-INTERVAL;VALUE=DURATION:PT1H
X-Robots-Tag:noindex
X-PUBLISHED-TTL:PT1H
BEGIN:VTIMEZONE
TZID:Europe/London
BEGIN:DAYLIGHT
TZOFFSETFROM:+0000
TZOFFSETTO:+0100
TZNAME:BST
DTSTART:20230326T010000
END:DAYLIGHT
BEGIN:STANDARD
TZOFFSETFROM:+0100
TZOFFSETTO:+0000
TZNAME:GMT
DTSTART:20231029T010000
END:STANDARD
END:VTIMEZONE
BEGIN:VEVENT
DTSTART;TZID=Europe/London:20230523T160000
DTEND;TZID=Europe/London:20230523T170000
DTSTAMP:20260420T084647
CREATED:20230503T120110Z
LAST-MODIFIED:20230503T122405Z
UID:52123-1684857600-1684861200@www.circleofwinewriters.org
SUMMARY:Circle of Wine Writers Annual General Meeting (AGM)
DESCRIPTION:Do join us\, online\, for our AGM when you will get the chance to meet your Committee members and ask any questions that you have.  We will run through key features of 2022 and then look at plans for 2023 and beyond.  The papers have been emailed so watch out for them in your inbox.  These will include the financials for 2022\, the budget for 2023 and also the voting papers incase you cannot make it.  We do hope you can attend and also join us at the end to share a toast. \nMembers are invited to stay on for an informal chat afterwards and to share a toast. \nPlease note the timing of 4pm (BST). \nZoom link will be emailed in advance. \n  \n 
URL:https://www.circleofwinewriters.org/event/circle-of-wine-writers-annual-general-meeting-agm/
ATTACH;FMTTYPE=image/png:https://www.circleofwinewriters.org/wp-content/uploads/2017/07/Screen-Shot-2017-07-14-at-18.35.45-e1500053738434.png
END:VEVENT
END:VCALENDAR