BEGIN:VCALENDAR
VERSION:2.0
PRODID:-//Circle of Wine Writers - ECPv6.3.5//NONSGML v1.0//EN
CALSCALE:GREGORIAN
METHOD:PUBLISH
X-ORIGINAL-URL:https://www.circleofwinewriters.org
X-WR-CALDESC:Events for Circle of Wine Writers
REFRESH-INTERVAL;VALUE=DURATION:PT1H
X-Robots-Tag:noindex
X-PUBLISHED-TTL:PT1H
BEGIN:VTIMEZONE
TZID:Europe/London
BEGIN:DAYLIGHT
TZOFFSETFROM:+0000
TZOFFSETTO:+0100
TZNAME:BST
DTSTART:20230326T010000
END:DAYLIGHT
BEGIN:STANDARD
TZOFFSETFROM:+0100
TZOFFSETTO:+0000
TZNAME:GMT
DTSTART:20231029T010000
END:STANDARD
END:VTIMEZONE
BEGIN:VEVENT
DTSTART;TZID=Europe/London:20230605T140000
DTEND;TZID=Europe/London:20230605T173000
DTSTAMP:20260420T053607
CREATED:20230517T111848Z
LAST-MODIFIED:20230517T113648Z
UID:52174-1685973600-1685986200@www.circleofwinewriters.org
SUMMARY:Tim Atkin’s 2023 Chile Report - masterclass & tasting
DESCRIPTION:“Researching this report – my seventh – was more pleasurable than ever. I’ve had a front row seat to witness the changes of the last decade\, and I couldn’t be happier about what has happened. After all\, I was the person who described Chile as the “Volvo of the wine industry”\, a justified comment that it took me a long time to live down”. Tim Atkin MW – April 2023 \nTim Atkin MW dedicated just over three weeks during December 2022 in Chile to compile his seventh Chilean Special Report\, his most comprehensive to date\, where he discovered new wineries and wines\, as well as tasting new releases. \nWines of Chile invite you to attend a masterclass featuring a selection of wines that received accolades from Tim’s 2023 Podium. Each winemaker will join the masterclass (via Zoom) and discuss with Tim their wines\, giving a fascinating and anecdotal update from Chile. \nTimings: Tasting opens:  14:00 – 17:30 pm\nMasterclass: 15:00 – 16:30pm \nTo compliment the masterclass\, there is a free pour tasting of wines that Tim awarded 90 or more points to\, the tasting line-up includes:\n•	Wineries that are seeking representation in the market\n•	Wineries of all sizes – boutique to large production\n•	Ancestral\, single varietals and blends\n•	A fortified wine made from Grenache & Monastrell\n•	A chardonnay-based blend made from vintages between 2017 and 2020 \nYou can register your attendance to the tasting or to both the masterclass and tasting via the following link: https://www.eventbrite.co.uk/e/619018680537 \nPlease let Wines of Chile know if you need any further information on the above event (info@winesofchile.org.uk) \nTo purchase Tim’s report:  https://timatkin.com/product/2023-chile-special-report/ \nPlease note that this event is only open to bona fide members of the trade and press (your trade credentials may be requested).
URL:https://www.circleofwinewriters.org/event/tim-atkins-2023-chile-report-masterclass-tasting/
LOCATION:ASIA House\, 63 New Cavendish Street\, London\, W1G 7LP
ATTACH;FMTTYPE=image/png:https://www.circleofwinewriters.org/wp-content/uploads/2023/05/calendarofeventswinesofchile.png
ORGANIZER;CN="Wines of Chile":MAILTO:info@winesofchile.org.uk
END:VEVENT
END:VCALENDAR