BEGIN:VCALENDAR
VERSION:2.0
PRODID:-//Circle of Wine Writers - ECPv6.3.5//NONSGML v1.0//EN
CALSCALE:GREGORIAN
METHOD:PUBLISH
X-ORIGINAL-URL:https://www.circleofwinewriters.org
X-WR-CALDESC:Events for Circle of Wine Writers
REFRESH-INTERVAL;VALUE=DURATION:PT1H
X-Robots-Tag:noindex
X-PUBLISHED-TTL:PT1H
BEGIN:VTIMEZONE
TZID:Europe/London
BEGIN:DAYLIGHT
TZOFFSETFROM:+0000
TZOFFSETTO:+0100
TZNAME:BST
DTSTART:20230326T010000
END:DAYLIGHT
BEGIN:STANDARD
TZOFFSETFROM:+0100
TZOFFSETTO:+0000
TZNAME:GMT
DTSTART:20231029T010000
END:STANDARD
END:VTIMEZONE
BEGIN:VEVENT
DTSTART;VALUE=DATE:20230612
DTEND;VALUE=DATE:20230615
DTSTAMP:20260420T053606
CREATED:20230503T114007Z
LAST-MODIFIED:20230503T114007Z
UID:52112-1686528000-1686787199@www.circleofwinewriters.org
SUMMARY:Trip to Champagne region
DESCRIPTION:Join Crurated for a special trip for only 10 lucky guests to the Champagne region with visits to top estates. Attendees will also dine at family maisons and exclusive restaurants and meet producers that include Mathieu Roland-Billecart\, CEO of Billecart-Salmon\, Frédéric Rouzaud\, owner of Louis Roederer\, Alexandre Chartogne of Chartogne-Taillet\, Raphaël Bérêche of Bérêche et Fils\, Rodolphe Péters of Pierre Péters. Luxury accommodations will be provided by Residence Eisenhower. \nPlease contact the organisers for availability\, they will reserve up to two places at each event for the press and therefore they are subject to availability. \n  \n 
URL:https://www.circleofwinewriters.org/event/trip-to-champagne-region/
ORGANIZER;CN="Crurated Ltd":MAILTO:michaelvolpatt@gmail.com
END:VEVENT
END:VCALENDAR