BEGIN:VCALENDAR
VERSION:2.0
PRODID:-//Circle of Wine Writers - ECPv6.3.5//NONSGML v1.0//EN
CALSCALE:GREGORIAN
METHOD:PUBLISH
X-ORIGINAL-URL:https://www.circleofwinewriters.org
X-WR-CALDESC:Events for Circle of Wine Writers
REFRESH-INTERVAL;VALUE=DURATION:PT1H
X-Robots-Tag:noindex
X-PUBLISHED-TTL:PT1H
BEGIN:VTIMEZONE
TZID:Europe/London
BEGIN:DAYLIGHT
TZOFFSETFROM:+0000
TZOFFSETTO:+0100
TZNAME:BST
DTSTART:20230326T010000
END:DAYLIGHT
BEGIN:STANDARD
TZOFFSETFROM:+0100
TZOFFSETTO:+0000
TZNAME:GMT
DTSTART:20231029T010000
END:STANDARD
END:VTIMEZONE
BEGIN:VEVENT
DTSTART;TZID=Europe/London:20230616T140000
DTEND;TZID=Europe/London:20230616T150000
DTSTAMP:20260420T053606
CREATED:20230327T123224Z
LAST-MODIFIED:20230503T121729Z
UID:51947-1686924000-1686927600@www.circleofwinewriters.org
SUMMARY:Let's talk about... Naturally Bordeaux
DESCRIPTION:Let’s talk about… Naturally Bordeaux \nNaturally Bordeaux is a group of three organic winemakers from Bordeaux\, Château Fourcas Hosten\, Château Jean Faure and Château de La Dauphine\, who are focussed on developing sustainable winemaking. More details to follow.
URL:https://www.circleofwinewriters.org/event/lets-talk-about-naturally-bordeaux/
ATTACH;FMTTYPE=image/png:https://www.circleofwinewriters.org/wp-content/uploads/2017/07/Screen-Shot-2017-07-14-at-18.35.45-e1500053738434.png
ORGANIZER;CN="Circle of Wine Writers":MAILTO:administrator@circleofwinewriters.org
END:VEVENT
END:VCALENDAR