BEGIN:VCALENDAR
VERSION:2.0
PRODID:-//Circle of Wine Writers - ECPv6.3.5//NONSGML v1.0//EN
CALSCALE:GREGORIAN
METHOD:PUBLISH
X-WR-CALNAME:Circle of Wine Writers
X-ORIGINAL-URL:https://www.circleofwinewriters.org
X-WR-CALDESC:Events for Circle of Wine Writers
REFRESH-INTERVAL;VALUE=DURATION:PT1H
X-Robots-Tag:noindex
X-PUBLISHED-TTL:PT1H
BEGIN:VTIMEZONE
TZID:Europe/London
BEGIN:DAYLIGHT
TZOFFSETFROM:+0000
TZOFFSETTO:+0100
TZNAME:BST
DTSTART:20230326T010000
END:DAYLIGHT
BEGIN:STANDARD
TZOFFSETFROM:+0100
TZOFFSETTO:+0000
TZNAME:GMT
DTSTART:20231029T010000
END:STANDARD
END:VTIMEZONE
BEGIN:VEVENT
DTSTART;TZID=Europe/London:20230712T180000
DTEND;TZID=Europe/London:20230712T210000
DTSTAMP:20260420T040101
CREATED:20230623T094050Z
LAST-MODIFIED:20230623T094050Z
UID:52264-1689184800-1689195600@www.circleofwinewriters.org
SUMMARY:Anglo Israel Association Wine Tasting
DESCRIPTION:Joshua London and The Anglo-Israel Association (UK registered charity No 313523) invites you to a private Israeli wine tasting reception.  \nThe Anglo-Israel Association Wine Tasting Reception will be celebrating Israel 75 with Israeli Wines with presentations to run from 7-8 pm\, followed by more canapes and wine tasting.  \nThey will be tasting some of the very best Israel wines with Bruce Anderson\, noted Drinks Critic for The Spectator\, along with Eli Ben-Zaken winemaker of Domaine du Castel and Etti Edri of Yatir Winery.   \nPlease contact Josh direct for further details.
URL:https://www.circleofwinewriters.org/event/anglo-israel-association-wine-tasting/
LOCATION:Royal Automobile Club\, 89 Pall Mall\, London\, SW1Y 5HS
ATTACH;FMTTYPE=image/jpeg:https://www.circleofwinewriters.org/wp-content/uploads/2023/06/AngloIsraeliAssoc.jpg
ORGANIZER;CN="Josh London":MAILTO:joshua@angloisraelassociation.com
END:VEVENT
END:VCALENDAR