BEGIN:VCALENDAR
VERSION:2.0
PRODID:-//Circle of Wine Writers - ECPv6.3.5//NONSGML v1.0//EN
CALSCALE:GREGORIAN
METHOD:PUBLISH
X-WR-CALNAME:Circle of Wine Writers
X-ORIGINAL-URL:https://www.circleofwinewriters.org
X-WR-CALDESC:Events for Circle of Wine Writers
REFRESH-INTERVAL;VALUE=DURATION:PT1H
X-Robots-Tag:noindex
X-PUBLISHED-TTL:PT1H
BEGIN:VTIMEZONE
TZID:Europe/London
BEGIN:DAYLIGHT
TZOFFSETFROM:+0000
TZOFFSETTO:+0100
TZNAME:BST
DTSTART:20230326T010000
END:DAYLIGHT
BEGIN:STANDARD
TZOFFSETFROM:+0100
TZOFFSETTO:+0000
TZNAME:GMT
DTSTART:20231029T010000
END:STANDARD
END:VTIMEZONE
BEGIN:VEVENT
DTSTART;TZID=Europe/London:20230905T103000
DTEND;TZID=Europe/London:20230905T173000
DTSTAMP:20260420T010115
CREATED:20230731T093353Z
LAST-MODIFIED:20230731T093353Z
UID:52424-1693909800-1693935000@www.circleofwinewriters.org
SUMMARY:WineGB Trade & Press Tasting 2023
DESCRIPTION:WineGB is announcing a new look and a brand-new venue for their Trade & Press Tasting 2023. \nTaking place on Tuesday 5th September from 10.30 – 5.30pm\, this year’s tasting will be at Battersea Arts Centre in London. \nThe tasting will be packed with different features to make it the go-to event for GB wines on the wine trade calendar: \n\nIndividual exhibitors and brands\, from long-established to new arrivals\nStands representing regional vineyard associations\, putting a spotlight on smaller commercial producers\, some exhibiting for the first time\nFocus\, free-pour tables to highlight some of the styles now produced in Britain including:\n\no   Still wines from the 2022 vintage \no   2018 Classic Method sparkling wines \no   Pet Nat wines \n\nA tasting of the Trophy Winners in the WineGB Awards 2023\nMasterclass sessions in an adjoining room\n\nHead of Marketing Julia Trustram Eve explains: “Our industry is growing fast\, with plantings predicted to reach 7\,500 hectares in the next decade.  We felt that the time was right to refresh the tasting\, explore a new venue and give the event a whole new look.  There is a great deal of excitement about the sector\, not only in the UK but in key export markets too\, and we want to reflect that dynamism\, innovation and energy in our event. \n“Visitors can look forward to discovering new wines from across the UK\, meeting many of the producers in person and immersing themselves in this exciting industry\, all under one roof.” \nTo sign up for the tasting please visit: https://winegb.co.uk/events/winegb-trade-and-press-tasting/ \nFurther information: \nMadeleine Waters                              madeleine@wareco.co.uk                  07778 702221 \nNotes to Editors: WineGB will be holding an Industry Briefing for press from 9.30-10.30am\, before the main tasting opens. To book a place\, email Madeleine Waters.  \n  \n 
URL:https://www.circleofwinewriters.org/event/winegb-trade-press-tasting-2023/
LOCATION:Battersea Arts Centre\, Lavender Hill\, London\, SW11 5TN
ATTACH;FMTTYPE=image/jpeg:https://www.circleofwinewriters.org/wp-content/uploads/2023/07/calendarofeventsWineGBSept23-e1690795498223.jpg
ORGANIZER;CN="The Co Company":MAILTO:madeleine@wareco.co.uk
END:VEVENT
BEGIN:VEVENT
DTSTART;TZID=Europe/London:20230905T103000
DTEND;TZID=Europe/London:20230905T180000
DTSTAMP:20260420T010115
CREATED:20230824T104122Z
LAST-MODIFIED:20230824T104122Z
UID:52538-1693909800-1693936800@www.circleofwinewriters.org
SUMMARY:Veenus at the Amathus annual trade tasting
DESCRIPTION:Su-Lin Ong PR introduce Goldtooth Vermouth\, which will launch in the UK this Autumn. \nThis range of small batch vermouths is blended from wine made with Spanish Parellada and Xarello grapes\, and aromatized by a herbalist’s blend of wild and farmed botanicals from Ibiza. \nGoldtooth was created by herbalist-blender Veenus Vortex and now partners with Amathus for UK distribution.  Goldtooth Original and Goldtooth Springtime\, both 15 percent abv\, have gained a strong following in their Mediterranean Balearic home of Ibiza\, and now also in Mallorca and Menorca.  They will be the first two styles for the UK\, and a new\, limited edition third style specially for the UK will be released by the end of 2023.  Guide retail price is £29 to £32 for a 75cl bottle. \nLaunch plans for the UK comprise a solid schedule of trade tastings\, led by Veenus visiting individual on and off-trade outlets. \nThey hope you may like to come and meet Veenus at the Amathus annual trade tasting in Piccadilly\, London W1 on 5 September 2023. \nShe’ll be there all day but if you want to fix a time please contact Su-Lin Ong direct.  Veenus used to own Pinch\, a wine shop in East London \nhttps://www.eventbrite.co.uk/e/amathus-drinks-trade-wine-and-spirits-portfolio-tasting-tickets-652604767427 \n 
URL:https://www.circleofwinewriters.org/event/veenus-at-the-amathus-annual-trade-tasting/
LOCATION:Royal Society of Chemistry\, Piccadilly\, London\, W1J 0BA
ATTACH;FMTTYPE=image/jpeg:https://www.circleofwinewriters.org/wp-content/uploads/2023/08/calendarofeventsVermouth21_GOLDTOOTH_OCT20_HERO_8_030-Lo-scaled-e1692873491974.jpg
ORGANIZER;CN="Su-Lin Ong":MAILTO:sulinong@slo-london.co.uk
END:VEVENT
BEGIN:VEVENT
DTSTART;TZID=Europe/London:20230905T170000
DTEND;TZID=Europe/London:20230905T180000
DTSTAMP:20260420T010115
CREATED:20230816T101833Z
LAST-MODIFIED:20230816T101833Z
UID:52480-1693933200-1693936800@www.circleofwinewriters.org
SUMMARY:Let's talk about... the OIV with Monika Christmann
DESCRIPTION:Let’s talk about… the OIV with Monika Christmann \nMonika Christmann\, head of Oenology / Wine Technology at the Hochschule Geisenheim University and former president of the OIV (International Organisation of Vine and Wine) will speak on the role of the OIV on a global scale and its influence / impact on winemaking. She will also discuss research on climate change at Geisenheim and its implications for the future. \nFull details to be sent out. \n 
URL:https://www.circleofwinewriters.org/event/lets-talk-about-the-oiv-with-monika-christmann/
ATTACH;FMTTYPE=image/jpeg:https://www.circleofwinewriters.org/wp-content/uploads/2023/08/MonikaChristmannOIV-e1692180897838.jpg
ORGANIZER;CN="Circle of Wine Writers":MAILTO:administrator@circleofwinewriters.org
END:VEVENT
END:VCALENDAR