BEGIN:VCALENDAR
VERSION:2.0
PRODID:-//Circle of Wine Writers - ECPv6.3.5//NONSGML v1.0//EN
CALSCALE:GREGORIAN
METHOD:PUBLISH
X-ORIGINAL-URL:https://www.circleofwinewriters.org
X-WR-CALDESC:Events for Circle of Wine Writers
REFRESH-INTERVAL;VALUE=DURATION:PT1H
X-Robots-Tag:noindex
X-PUBLISHED-TTL:PT1H
BEGIN:VTIMEZONE
TZID:Europe/London
BEGIN:DAYLIGHT
TZOFFSETFROM:+0000
TZOFFSETTO:+0100
TZNAME:BST
DTSTART:20230326T010000
END:DAYLIGHT
BEGIN:STANDARD
TZOFFSETFROM:+0100
TZOFFSETTO:+0000
TZNAME:GMT
DTSTART:20231029T010000
END:STANDARD
END:VTIMEZONE
BEGIN:VEVENT
DTSTART;TZID=Europe/London:20231017T100000
DTEND;TZID=Europe/London:20231017T160000
DTSTAMP:20260419T231448
CREATED:20230725T091603Z
LAST-MODIFIED:20231009T094307Z
UID:52371-1697536800-1697558400@www.circleofwinewriters.org
SUMMARY:Neusiedlersee DAC x IWSC Austrian award-winners
DESCRIPTION:On behalf of the producers of Neusiedlersee DAC Spritz Marketing are delighted to invite you to a tasting of the most recent vintage releases on Tuesday 17 October. \nThey are collaborating with the IWSC who will be showcasing the recent gold and silver medal winning wines from the IWSC’s wine judging in Austria. \nPress and trade are invited to register to attend the event on Eventbrite.
URL:https://www.circleofwinewriters.org/event/neusiedlersee-dac-iwsc-austrian-award-winners/
LOCATION:Institute of Contemporary Art (Brandon & Nash room)\, accessed via 12 Carlton House Terrace\, London\, SW1Y 5AH
ATTACH;FMTTYPE=image/jpeg:https://www.circleofwinewriters.org/wp-content/uploads/2023/07/calendarofeventsNov23SpritzNeusiedlersee-e1696844546387.jpg
ORGANIZER;CN="Spritz Marketing":MAILTO:gemma@spritzmarketing.co.uk
END:VEVENT
BEGIN:VEVENT
DTSTART;TZID=Europe/London:20231017T170000
DTEND;TZID=Europe/London:20231017T180000
DTSTAMP:20260419T231448
CREATED:20230816T103006Z
LAST-MODIFIED:20231009T100132Z
UID:52490-1697562000-1697565600@www.circleofwinewriters.org
SUMMARY:Let's talk about... The wines of Tokaj\, with Agnes Herczeg and András Győrffy
DESCRIPTION:Let’s talk about… The wines of Tokaj\, with Agnes Herczeg and András Győrffy \nHungary’s renowned Tokaj wine region – is the subject of the Circle’s next online session. Our expert speakers Agnes and András will provide a general introduction covering such topics as grape varieties and wine styles\, then move on to current challenges\, including global warming and market changes\, and hot topics in the region\, from sustainability to sparkling wines. They will conclude with discussion of the Grand Tokaj company\, best known for its sweet Aszú wines. \nTogether\, they aim to celebrate the extraordinary world of Tokaji wines. \nTo join this seminar\, please register now or at any time before 5pm BST on Tuesday 17th October. The session\, including Q&As\, will last for approximately one hour. To register\, follow the link below. Guests will be very welcome\, but please let Andrea know their names. \nRegister in advance for this webinar:\nhttps://us06web.zoom.us/meeting/register/tZcsf-mtpzMiE9RgNiWjjdGXThDaqBLxUjKu \n  \n 
URL:https://www.circleofwinewriters.org/event/lets-talk-about-tokaj-with-andras-gyorffy/
ATTACH;FMTTYPE=image/jpeg:https://www.circleofwinewriters.org/wp-content/uploads/2023/08/LetsTalkTokaj1-e1696845591419.jpg
ORGANIZER;CN="Circle of Wine Writers":MAILTO:administrator@circleofwinewriters.org
END:VEVENT
END:VCALENDAR