BEGIN:VCALENDAR
VERSION:2.0
PRODID:-//Circle of Wine Writers - ECPv6.3.5//NONSGML v1.0//EN
CALSCALE:GREGORIAN
METHOD:PUBLISH
X-ORIGINAL-URL:https://www.circleofwinewriters.org
X-WR-CALDESC:Events for Circle of Wine Writers
REFRESH-INTERVAL;VALUE=DURATION:PT1H
X-Robots-Tag:noindex
X-PUBLISHED-TTL:PT1H
BEGIN:VTIMEZONE
TZID:Europe/London
BEGIN:DAYLIGHT
TZOFFSETFROM:+0000
TZOFFSETTO:+0100
TZNAME:BST
DTSTART:20230326T010000
END:DAYLIGHT
BEGIN:STANDARD
TZOFFSETFROM:+0100
TZOFFSETTO:+0000
TZNAME:GMT
DTSTART:20231029T010000
END:STANDARD
END:VTIMEZONE
BEGIN:VEVENT
DTSTART;TZID=Europe/London:20231101T100000
DTEND;TZID=Europe/London:20231101T160000
DTSTAMP:20260419T213417
CREATED:20230725T093610Z
LAST-MODIFIED:20230927T085641Z
UID:52377-1698832800-1698854400@www.circleofwinewriters.org
SUMMARY:IWSC x Margaret River Award-Winning Wine Tasting
DESCRIPTION:Following on from the “Save the Date”\, please find here full details for the day. \nYou can register to attend directly via the link here or feel free to just drop Astrid and the team at Spritz a line directly and they’ll add you to the guest list. \nTrade and press only.
URL:https://www.circleofwinewriters.org/event/iwsc-x-margaret-river-award-winning-wine-tasting/
LOCATION:St James’s\, 67 Pall Mall\, London\, London\, SW1Y 5ES\, United Kingdom
ATTACH;FMTTYPE=image/png:https://www.circleofwinewriters.org/wp-content/uploads/2023/07/calendarofeventsSpritz23finalWSCMargaretRiver.png
ORGANIZER;CN="Spritz Marketing":MAILTO:gemma@spritzmarketing.co.uk
END:VEVENT
END:VCALENDAR