BEGIN:VCALENDAR
VERSION:2.0
PRODID:-//Circle of Wine Writers - ECPv6.3.5//NONSGML v1.0//EN
CALSCALE:GREGORIAN
METHOD:PUBLISH
X-WR-CALNAME:Circle of Wine Writers
X-ORIGINAL-URL:https://www.circleofwinewriters.org
X-WR-CALDESC:Events for Circle of Wine Writers
REFRESH-INTERVAL;VALUE=DURATION:PT1H
X-Robots-Tag:noindex
X-PUBLISHED-TTL:PT1H
BEGIN:VTIMEZONE
TZID:Europe/London
BEGIN:DAYLIGHT
TZOFFSETFROM:+0000
TZOFFSETTO:+0100
TZNAME:BST
DTSTART:20230326T010000
END:DAYLIGHT
BEGIN:STANDARD
TZOFFSETFROM:+0100
TZOFFSETTO:+0000
TZNAME:GMT
DTSTART:20231029T010000
END:STANDARD
END:VTIMEZONE
BEGIN:VEVENT
DTSTART;TZID=Europe/London:20231107T170000
DTEND;TZID=Europe/London:20231107T180000
DTSTAMP:20260419T213330
CREATED:20230816T103218Z
LAST-MODIFIED:20231024T112245Z
UID:52492-1699376400-1699380000@www.circleofwinewriters.org
SUMMARY:Let's talk about... Greek Wines with Florence Tilkens Zotiades
DESCRIPTION:Let’s talk about… Greek Wines with Florence Tilkens Zotiades \nGreece\, one of the oldest of wine regions yet also one of the most modern\, will be the subject of our next online seminar\, presented by Greek expert Florence Tilkens Zotiades. Florence will lead us through the historical reasons behind the decline of Greek wine over the ages and on into its revival at the beginning of the 21st century. \nTo join this seminar\, please register now or at any time before 5pm BST on Tuesday 7th November. The session\, including Q&As\, will last for approximately one hour. To register\, follow the link below. Guests will be very welcome\, but please let Andrea know their names. \nRegister in advance for this webinar: \nhttps://us06web.zoom.us/meeting/register/tZYpdu2tpjMrHdcbBYdiNufw2FP_fqCasEpR \nAfter registering\, you will receive a confirmation email containing information about joining the webinar. \n 
URL:https://www.circleofwinewriters.org/event/lets-talk-about-greek-wines-with-florence-tilkens/
ATTACH;FMTTYPE=image/jpeg:https://www.circleofwinewriters.org/wp-content/uploads/2023/08/LetstalkFlorenceTilkens.jpg
ORGANIZER;CN="Circle of Wine Writers":MAILTO:administrator@circleofwinewriters.org
END:VEVENT
BEGIN:VEVENT
DTSTART;TZID=Europe/London:20231107T190000
DTEND;TZID=Europe/London:20231107T220000
DTSTAMP:20260419T213330
CREATED:20230731T095818Z
LAST-MODIFIED:20230731T095818Z
UID:52433-1699383600-1699394400@www.circleofwinewriters.org
SUMMARY:Winemaker dinners - Bangkok\, Hong Kong\, Singapore
DESCRIPTION:Crurated are offering an exclusive group of wine lovers to have the chance to experience winemaker dinners in either Bangkok\, Hong Kong\, or Singapore with Vincent Dancer of Domaine Vincent Dancer and Charles Lachaux of Domaine Arnoux-Lachaux and Charles Lachaux. More details about these exclusive events will be available in the coming weeks. \nPlease contact the organisers for availability\, they will reserve up to two seats at each event for the press and therefore they are subject to availability. \nAlso\, timings tbc.
URL:https://www.circleofwinewriters.org/event/winemaker-dinners-bangkok-hong-kong-singapore-2/
ATTACH;FMTTYPE=image/jpeg:https://www.circleofwinewriters.org/wp-content/uploads/2023/07/calendarofeventscrurated-winemaker-dinner-featuring-arnoux-lachaux-wines-nov-1-e1690796286917.jpeg
ORGANIZER;CN="Crurated Ltd":MAILTO:michaelvolpatt@gmail.com
END:VEVENT
END:VCALENDAR