BEGIN:VCALENDAR
VERSION:2.0
PRODID:-//Circle of Wine Writers - ECPv6.3.5//NONSGML v1.0//EN
CALSCALE:GREGORIAN
METHOD:PUBLISH
X-WR-CALNAME:Circle of Wine Writers
X-ORIGINAL-URL:https://www.circleofwinewriters.org
X-WR-CALDESC:Events for Circle of Wine Writers
REFRESH-INTERVAL;VALUE=DURATION:PT1H
X-Robots-Tag:noindex
X-PUBLISHED-TTL:PT1H
BEGIN:VTIMEZONE
TZID:Europe/London
BEGIN:DAYLIGHT
TZOFFSETFROM:+0000
TZOFFSETTO:+0100
TZNAME:BST
DTSTART:20230326T010000
END:DAYLIGHT
BEGIN:STANDARD
TZOFFSETFROM:+0100
TZOFFSETTO:+0000
TZNAME:GMT
DTSTART:20231029T010000
END:STANDARD
END:VTIMEZONE
BEGIN:VEVENT
DTSTART;TZID=Europe/London:20231108T130000
DTEND;TZID=Europe/London:20231108T170000
DTSTAMP:20260419T213331
CREATED:20230911T094054Z
LAST-MODIFIED:20230911T094145Z
UID:52612-1699448400-1699462800@www.circleofwinewriters.org
SUMMARY:Union des Grands Crus de Bordeaux tasting
DESCRIPTION:Join the Union des Grands Crus de Bordeaux and its members for an exclusive tasting of the 2021 vintage. Created in 1973\, the Union des Grands Crus de Bordeaux is a group of 131 top châteaux based in the finest appellations in the Gironde including the Médoc\, Graves and Pessac-Léognan\, Sauternes\, Barsac\, Saint Emilion and Pomerol. \nA list of exhibitors will be available on ugcb.net late October. \nPlease register here:  https://ugcb23.smartreg.co.uk/Visitors/Visitors/register 
URL:https://www.circleofwinewriters.org/event/union-des-grands-crus-de-bordeaux-tasting/
LOCATION:Lindley Hall\, Royal Horticultural Halls\, Elverton Street\, London\, SW1P 2QW
ORGANIZER;CN="Otaria Communications":MAILTO:celine@otaria.co.uk
END:VEVENT
BEGIN:VEVENT
DTSTART;TZID=Europe/London:20231108T190000
DTEND;TZID=Europe/London:20231108T220000
DTSTAMP:20260419T213331
CREATED:20230731T100041Z
LAST-MODIFIED:20230731T100041Z
UID:52434-1699470000-1699480800@www.circleofwinewriters.org
SUMMARY:Winemaker dinners - Bangkok\, Hong Kong\, Singapore
DESCRIPTION:Crurated are offering an exclusive group of wine lovers to have the chance to experience winemaker dinners in either Bangkok\, Hong Kong\, or Singapore with Vincent Dancer of Domaine Vincent Dancer and Charles Lachaux of Domaine Arnoux-Lachaux and Charles Lachaux. More details about these exclusive events will be available in the coming weeks. \nPlease contact the organisers for availability\, they will reserve up to two seats at each event for the press and therefore they are subject to availability. \nAlso\, timings tbc.
URL:https://www.circleofwinewriters.org/event/winemaker-dinners-bangkok-hong-kong-singapore-3/
ATTACH;FMTTYPE=image/jpeg:https://www.circleofwinewriters.org/wp-content/uploads/2023/07/calendarofeventscrurated-winemaker-dinner-featuring-arnoux-lachaux-wines-nov-1-e1690796286917.jpeg
ORGANIZER;CN="Crurated Ltd":MAILTO:michaelvolpatt@gmail.com
END:VEVENT
END:VCALENDAR