BEGIN:VCALENDAR
VERSION:2.0
PRODID:-//Circle of Wine Writers - ECPv6.3.5//NONSGML v1.0//EN
CALSCALE:GREGORIAN
METHOD:PUBLISH
X-ORIGINAL-URL:https://www.circleofwinewriters.org
X-WR-CALDESC:Events for Circle of Wine Writers
REFRESH-INTERVAL;VALUE=DURATION:PT1H
X-Robots-Tag:noindex
X-PUBLISHED-TTL:PT1H
BEGIN:VTIMEZONE
TZID:Europe/London
BEGIN:DAYLIGHT
TZOFFSETFROM:+0000
TZOFFSETTO:+0100
TZNAME:BST
DTSTART:20240331T010000
END:DAYLIGHT
BEGIN:STANDARD
TZOFFSETFROM:+0100
TZOFFSETTO:+0000
TZNAME:GMT
DTSTART:20241027T010000
END:STANDARD
END:VTIMEZONE
BEGIN:VEVENT
DTSTART;TZID=Europe/London:20240109T170000
DTEND;TZID=Europe/London:20240109T180000
DTSTAMP:20260419T174819
CREATED:20231220T110836Z
LAST-MODIFIED:20231220T110836Z
UID:53007-1704819600-1704823200@www.circleofwinewriters.org
SUMMARY:CWW Let's talk about... Bottle weight - the new green frontier with Jancis Robinson MW
DESCRIPTION:© Benjamin McMahon \nJancis\, widely regarded as the world’s most influential wine writer\, will be talking about why wine bottle weight matters and the current state of play on bottle weight around the world. She will highlight the goodies and the baddies\, and touch on various alternatives in wine packaging.  \nSupported by her team at www.jancisrobinson.com she has long been at the forefront of campaigning for ‘greener’ bottles\, forcefully spreading the word that glass-bottle manufacture and transport is the most significant contributor to wine’s carbon emissions. Her website was a pioneer in including bottle weights in tasting notes. This seminar will provide an invaluable overview of a topic essential to all wine communicators. \nTo join this seminar\, please register now or at any time before 5pm GMT on Tuesday 9th January. The session\, including Q&As\, will last for approximately one hour. To register\, follow the link below. Guests will be very welcome\, but please let Andrea know their names. \nRegister in advance for this meeting:\nhttps://us06web.zoom.us/meeting/register/tZUodOmgqTgiGNcuAhaLp0UZbIQJiZdByK_y  \nAfter registering\, you will receive a confirmation email containing information about joining the meeting.
URL:https://www.circleofwinewriters.org/event/cww-lets-talk-about-bottle-weight-the-new-green-frontier-with-jancis-robinson-mw/
ATTACH;FMTTYPE=image/jpeg:https://www.circleofwinewriters.org/wp-content/uploads/2023/12/Jancis-2-credit-Benjamin-McMahon-e1703070307396.jpg
END:VEVENT
END:VCALENDAR