BEGIN:VCALENDAR
VERSION:2.0
PRODID:-//Circle of Wine Writers - ECPv6.3.5//NONSGML v1.0//EN
CALSCALE:GREGORIAN
METHOD:PUBLISH
X-ORIGINAL-URL:https://www.circleofwinewriters.org
X-WR-CALDESC:Events for Circle of Wine Writers
REFRESH-INTERVAL;VALUE=DURATION:PT1H
X-Robots-Tag:noindex
X-PUBLISHED-TTL:PT1H
BEGIN:VTIMEZONE
TZID:Europe/London
BEGIN:DAYLIGHT
TZOFFSETFROM:+0000
TZOFFSETTO:+0100
TZNAME:BST
DTSTART:20240331T010000
END:DAYLIGHT
BEGIN:STANDARD
TZOFFSETFROM:+0100
TZOFFSETTO:+0000
TZNAME:GMT
DTSTART:20241027T010000
END:STANDARD
END:VTIMEZONE
BEGIN:VEVENT
DTSTART;TZID=Europe/London:20240123T170000
DTEND;TZID=Europe/London:20240123T180000
DTSTAMP:20260419T174821
CREATED:20240109T135213Z
LAST-MODIFIED:20240117T132956Z
UID:53240-1706029200-1706032800@www.circleofwinewriters.org
SUMMARY:CWW Let's talk about... Why are there more old vines in Lodi than any other region in America? with Randy Caparoso
DESCRIPTION:The second of the Circle’s 2024 season of Let’s talk about… online seminars will be presented by another expert member\, Randy Caparoso. As usual\, this year the sessions will continue on Tuesdays at 5pm UK time\, normally in the first and third weeks of each month\, with advance registration. If you can’t attend the live sessions they are available to watch afterwards on the Circle’s YouTube channel (links in the members’ area of the website). \nRemarkably\, more than 16\,000 acres (6\,500 hectares) of existing Lodi vineyards were planted before the 1970s – easily the largest total in California and anywhere in the United States. \nRandy\, who has studied them extensively and in 2022 published a comprehensive book on the region\,will lead us through the history behind these plantings\, the grape varieties\, how the grapes are used in both premium wines and for the commodity market\, and explain the current Save the Old campaign aimed at stimulating industry and consumer enthusiasm for these historic vines. He will also touch on the broader reasons for appreciating old vines and the questions associated with understanding their value. \nRandy is a wine journalist and photographer who lives in Lodi\, California. He is currently editor-at-large for The SOMM Journal\, writes for the Lodi Winegrape Commission and is author of Lodi!\, The Definitive Guide and History of America’s Largest Winegrowing Region (KitchenCinco Press\, 2022). \nRegister in advance for this webinar: \nhttps://circleofwinewriters.us7.list-manage.com/track/click?u=e69f39c21a0add50363e2abb8&id=df038f29fe&e=ae8d3bbc62 \nAfter registering\, you will receive a confirmation email containing information about joining the meeting. \nWe look forward to seeing you then.
URL:https://www.circleofwinewriters.org/event/cww-lets-talk-about-why-are-there-more-old-vines-in-lodi-than-any-other-region-in-america-with-randy-caparoso/
ATTACH;FMTTYPE=image/jpeg:https://www.circleofwinewriters.org/wp-content/uploads/2024/01/LodiLetsTalk.jpeg
ORGANIZER;CN="Circle of Wine Writers":MAILTO:administrator@circleofwinewriters.org
END:VEVENT
END:VCALENDAR