BEGIN:VCALENDAR
VERSION:2.0
PRODID:-//Circle of Wine Writers - ECPv6.3.5//NONSGML v1.0//EN
CALSCALE:GREGORIAN
METHOD:PUBLISH
X-ORIGINAL-URL:https://www.circleofwinewriters.org
X-WR-CALDESC:Events for Circle of Wine Writers
REFRESH-INTERVAL;VALUE=DURATION:PT1H
X-Robots-Tag:noindex
X-PUBLISHED-TTL:PT1H
BEGIN:VTIMEZONE
TZID:Europe/London
BEGIN:DAYLIGHT
TZOFFSETFROM:+0000
TZOFFSETTO:+0100
TZNAME:BST
DTSTART:20240331T010000
END:DAYLIGHT
BEGIN:STANDARD
TZOFFSETFROM:+0100
TZOFFSETTO:+0000
TZNAME:GMT
DTSTART:20241027T010000
END:STANDARD
END:VTIMEZONE
BEGIN:VEVENT
DTSTART;TZID=Europe/London:20240228T100000
DTEND;TZID=Europe/London:20240228T170000
DTSTAMP:20260419T143831
CREATED:20240109T103404Z
LAST-MODIFIED:20240109T103404Z
UID:53226-1709114400-1709139600@www.circleofwinewriters.org
SUMMARY:Mentzendorff Portfolio Tasting - 2024
DESCRIPTION:  \n \nPlease note The Portfolio Tasting website has all the masterclass information\, event schedule and to details of how to register: https://mentzportfoliotasting.online-rsvp.com
URL:https://www.circleofwinewriters.org/event/mentzendorff-portfolio-tasting-2024/
LOCATION:One Great George Street\, London\, SW1P 3AA
ATTACH;FMTTYPE=image/jpeg:https://www.circleofwinewriters.org/wp-content/uploads/2024/01/Mentzendorff-Logo-3.jpg
ORGANIZER;CN="Mentzendorff & Co Ltd":MAILTO:AnnaW@mentzendorff.co.uk
END:VEVENT
END:VCALENDAR