BEGIN:VCALENDAR
VERSION:2.0
PRODID:-//Circle of Wine Writers - ECPv6.3.5//NONSGML v1.0//EN
CALSCALE:GREGORIAN
METHOD:PUBLISH
X-ORIGINAL-URL:https://www.circleofwinewriters.org
X-WR-CALDESC:Events for Circle of Wine Writers
REFRESH-INTERVAL;VALUE=DURATION:PT1H
X-Robots-Tag:noindex
X-PUBLISHED-TTL:PT1H
BEGIN:VTIMEZONE
TZID:Europe/London
BEGIN:DAYLIGHT
TZOFFSETFROM:+0000
TZOFFSETTO:+0100
TZNAME:BST
DTSTART:20240331T010000
END:DAYLIGHT
BEGIN:STANDARD
TZOFFSETFROM:+0100
TZOFFSETTO:+0000
TZNAME:GMT
DTSTART:20241027T010000
END:STANDARD
END:VTIMEZONE
BEGIN:VEVENT
DTSTART;TZID=Europe/London:20240409T170000
DTEND;TZID=Europe/London:20240409T180000
DTSTAMP:20260419T131134
CREATED:20240321T121730Z
LAST-MODIFIED:20240321T121840Z
UID:53625-1712682000-1712685600@www.circleofwinewriters.org
SUMMARY:CWW - Let's talk about... Rosé: a simple wine that’s full of mystery\, with Liz Gabay MW
DESCRIPTION:CWW – Let’s talk about… Rosé: a simple wine that’s full of mystery\, with Liz Gabay MW \nTuesday 9th April at 5pm BST \nFor years rosé has been promoted as the simple pink wine appealing to consumers who do not want to learn vintage charts\, terroir or wine making. It just is\, like Just Ken – Just rosé. \nBut what if there is more to rosé than meets the eye? \nLiz\, who is a highly respected authority on rosé wine and a Circle member\, notes that a small but growing number of producers are experimenting with different styles of  winemaking using tradition and innovation to create a range of styles. Where does pale rosé end and blanc de noir start\, or dark rosé and summer red? \nIn this session she will be looking at marketing\, market trends\, impact of climate change and what’s new behind the scenes\, answering questions and hopefully creating a good discussion. \nIf you can’t attend the live session it will be available to watch afterwards\, with its 90+ predecessors\, on the Circle’s YouTube channel (links in the members’ area of the website). \nTo join this seminar\, please register now or at any time before 5pm BST on Tuesday 9th April. The session\, including Q&As\, will last for approximately one hour. To register\, follow the link below. Guests will be very welcome\, but please let Andrea know their names. \nRegister in advance for this webinar: \nhttps://us06web.zoom.us/meeting/register/tZwpc-ugrj4iE9P-xdr1Ac7XJY0TmR6jjmFs \nAfter registering\, you will receive a confirmation email containing information about joining the meeting.
URL:https://www.circleofwinewriters.org/event/cww-lets-talk-about-rose-a-simple-wine-thats-full-of-mystery-with-liz-gabay-mw/
ATTACH;FMTTYPE=image/jpeg:https://www.circleofwinewriters.org/wp-content/uploads/2024/03/LetsTalkLizGabayMWApr2024-e1714039863296.jpeg
ORGANIZER;CN="Circle of Wine Writers":MAILTO:administrator@circleofwinewriters.org
END:VEVENT
END:VCALENDAR