BEGIN:VCALENDAR
VERSION:2.0
PRODID:-//Circle of Wine Writers - ECPv6.3.5//NONSGML v1.0//EN
CALSCALE:GREGORIAN
METHOD:PUBLISH
X-WR-CALNAME:Circle of Wine Writers
X-ORIGINAL-URL:https://www.circleofwinewriters.org
X-WR-CALDESC:Events for Circle of Wine Writers
REFRESH-INTERVAL;VALUE=DURATION:PT1H
X-Robots-Tag:noindex
X-PUBLISHED-TTL:PT1H
BEGIN:VTIMEZONE
TZID:Europe/London
BEGIN:DAYLIGHT
TZOFFSETFROM:+0000
TZOFFSETTO:+0100
TZNAME:BST
DTSTART:20240331T010000
END:DAYLIGHT
BEGIN:STANDARD
TZOFFSETFROM:+0100
TZOFFSETTO:+0000
TZNAME:GMT
DTSTART:20241027T010000
END:STANDARD
END:VTIMEZONE
BEGIN:VEVENT
DTSTART;TZID=Europe/London:20240425T103000
DTEND;TZID=Europe/London:20240425T120000
DTSTAMP:20260419T131104
CREATED:20240321T111103Z
LAST-MODIFIED:20240321T111103Z
UID:53621-1714041000-1714046400@www.circleofwinewriters.org
SUMMARY:Austria’s Neusiedlersee DAC Masterclass and Tasting
DESCRIPTION:In April\, winemakers from Austria’s Neusiedlersee DAC will be in London for a masterclass and tasting. \nA selection of new vintage wines will be available to taste from 15 producers: \n\nAllacher Vinum Pannonia\nArtisan Wines\nHannes Reeh\nMarkus Iro\nWeingut Kummer\nSeegut Lentsch\nGeorg Preisinger\nMoser Weine\nMünzenrieder\nGebrüder Nittnaus\nNESTOR\nPreiner Wein\nPöckl\nSalzl Seewinkelhof\nKeringer Massiv Wines\n\nIn addition\, Dirceu Vianna Junior MW will be hosting a masterclass showcasing the diversity offered by the region and tasting through a further 15 wines. \nA light\, buffet-style lunch will be offered to guests who can stay on after the masterclass. \nHosted at 67 Pall Mall\, spaces are extremely limited so to reserve your place\, please email gemma@spritzmarketing.co.uk
URL:https://www.circleofwinewriters.org/event/austrias-neusiedlersee-dac-masterclass-and-tasting/
LOCATION:China Exchange\, 32A Gerrard Street\, London\, W1D 6JA
ATTACH;FMTTYPE=image/png:https://www.circleofwinewriters.org/wp-content/uploads/2024/03/CAlendarofeventsSpritzNeusiedlersee.png
ORGANIZER;CN="Spritz Marketing":MAILTO:gemma@spritzmarketing.co.uk
END:VEVENT
END:VCALENDAR