BEGIN:VCALENDAR
VERSION:2.0
PRODID:-//Circle of Wine Writers - ECPv6.3.5//NONSGML v1.0//EN
CALSCALE:GREGORIAN
METHOD:PUBLISH
X-ORIGINAL-URL:https://www.circleofwinewriters.org
X-WR-CALDESC:Events for Circle of Wine Writers
REFRESH-INTERVAL;VALUE=DURATION:PT1H
X-Robots-Tag:noindex
X-PUBLISHED-TTL:PT1H
BEGIN:VTIMEZONE
TZID:Europe/London
BEGIN:DAYLIGHT
TZOFFSETFROM:+0000
TZOFFSETTO:+0100
TZNAME:BST
DTSTART:20240331T010000
END:DAYLIGHT
BEGIN:STANDARD
TZOFFSETFROM:+0100
TZOFFSETTO:+0000
TZNAME:GMT
DTSTART:20241027T010000
END:STANDARD
END:VTIMEZONE
BEGIN:VEVENT
DTSTART;TZID=Europe/London:20240507T170000
DTEND;TZID=Europe/London:20240507T180000
DTSTAMP:20260420T021257
CREATED:20240417T091544Z
LAST-MODIFIED:20240425T113003Z
UID:53687-1715101200-1715104800@www.circleofwinewriters.org
SUMMARY:CWW - Let's talk about... Wine Tourism Douro and beyond with Adrian Bridge
DESCRIPTION:CWW – Let’s talk about… Porto and Douro\, a revolution in Wine Tourism and its impact on the region and its products\, with Adrian Bridge \nTuesday 7th May at 5pm BST \nPortugal is a highly fashionable tourism destination and has seen an explosion of development in Lisbon and Porto over recent years\, with much international investment. This transformation is reflected in the demand for Portuguese products\, including wine and port. \nOur speaker\, Adrian Bridge\, who leads the Fladgate Partnership\, has pioneered new styles of port as well as the wine hotel The Yeatman\, which arguably lit the fuse for Porto’s rocketing tourism success. More recent investment and the launching of World of Wine is aimed at taking the destination to another level. \nAdrian argues that the influx of visitors is having an impact not only in Portugal but also on demand for Portuguese products around the world\, not least table wines. The Fladgate Partnership has recently moved into this area and now has 250ha of table wine vineyards spread across four regions\, Minho\, Dao\, Bairrada and Douro. This is a major step for the company\, whose origins stretch back to the foundation of Taylor’s Port in 1692. \nAdrian’s talk will cover some of these trends\, the reasons for the strategic changes that he has led and\, importantly\, what he sees happening for the future.  Will this development in Portugal be a template for other regions? \nSee fladgatepartnership.com/en and and wow.pt/en \nTo join this seminar\, please register now or at any time before 5pm BST on Tuesday 7th May. The session\, including Q&As\, will last for approximately one hour. To register\, follow the link below. Guests will be very welcome\, but please let Andrea know their names. \nRegister in advance for this webinar: \nhttps://us06web.zoom.us/meeting/register/tZ0vdOyspzgvH9wS2Jq1TDMCgs9SxkXcm_pF \nAfter registering\, you will receive a confirmation email containing information about joining the webinar. \nWe look forward to seeing you then. \nMichèle Shah & Liz Sagues\, CWW online events organisers \n  \n 
URL:https://www.circleofwinewriters.org/event/cww-lets-talk-about-wine-tourism-douro-and-beyond-with-adrian-bridge/
ATTACH;FMTTYPE=image/jpeg:https://www.circleofwinewriters.org/wp-content/uploads/2024/04/calendarofeventsDouroAdrian-Bridge-higher-res-e1714044317223.jpg
ORGANIZER;CN="Circle of Wine Writers":MAILTO:administrator@circleofwinewriters.org
END:VEVENT
END:VCALENDAR