BEGIN:VCALENDAR
VERSION:2.0
PRODID:-//Circle of Wine Writers - ECPv6.3.5//NONSGML v1.0//EN
CALSCALE:GREGORIAN
METHOD:PUBLISH
X-WR-CALNAME:Circle of Wine Writers
X-ORIGINAL-URL:https://www.circleofwinewriters.org
X-WR-CALDESC:Events for Circle of Wine Writers
REFRESH-INTERVAL;VALUE=DURATION:PT1H
X-Robots-Tag:noindex
X-PUBLISHED-TTL:PT1H
BEGIN:VTIMEZONE
TZID:Europe/London
BEGIN:DAYLIGHT
TZOFFSETFROM:+0000
TZOFFSETTO:+0100
TZNAME:BST
DTSTART:20240331T010000
END:DAYLIGHT
BEGIN:STANDARD
TZOFFSETFROM:+0100
TZOFFSETTO:+0000
TZNAME:GMT
DTSTART:20241027T010000
END:STANDARD
END:VTIMEZONE
BEGIN:VEVENT
DTSTART;TZID=Europe/London:20241114T100000
DTEND;TZID=Europe/London:20241114T154500
DTSTAMP:20260419T174828
CREATED:20240925T122758Z
LAST-MODIFIED:20241001T132447Z
UID:54173-1731578400-1731599100@www.circleofwinewriters.org
SUMMARY:Les Crus Bourgeois du Médoc Annual Tasting
DESCRIPTION:Format: Free pour tasting \nArmelle Cruse\, Vice President of the Alliance des Crus Bourgeois du Médoc will be presenting a selection of wines from the remarkable 2022 vintage\, the final vintage of the current 2020 classification. Wines will be from across the 3 tier system: Cru Bourgeois\, Cru Bourgeois Supérieur and Cru Bourgeois Exceptionnel. Please join us to celebrate the success of the 2020 classification and to learn more about the upcoming 2025.
URL:https://www.circleofwinewriters.org/event/les-crus-bourgeois-du-medoc-annual-tasting/
LOCATION:67\, Pall Mall\, St James’s Room\, London\, SW1Y 5ES
ATTACH;FMTTYPE=image/png:https://www.circleofwinewriters.org/wp-content/uploads/2024/09/calendarofeventsLes-Crus-Bourgeois-du-Medoc-Annual-Tasting.png
ORGANIZER;CN="Belleville Marketing":MAILTO:mailto:jo@bellevillemarketing.com
END:VEVENT
BEGIN:VEVENT
DTSTART;TZID=Europe/London:20241114T100000
DTEND;TZID=Europe/London:20241114T160000
DTSTAMP:20260419T174828
CREATED:20240806T112940Z
LAST-MODIFIED:20240806T112940Z
UID:54060-1731578400-1731600000@www.circleofwinewriters.org
SUMMARY:IWSC Award-Winning Chinese Wine Tasting
DESCRIPTION:On behalf of the wine judges of the IWSC\,  Spritz Marketing invite you to taste the award-winning wines from the 2024 wine judging in China. \nThis is bound to be an interesting opportunity to taste a range of wines from China. Book your place via Eventbrite  here. \n 
URL:https://www.circleofwinewriters.org/event/iwsc-award-winning-chinese-wine-tasting/
LOCATION:China Exchange\, 32A Gerrard Street\, London\, W1D 6JA
ATTACH;FMTTYPE=image/png:https://www.circleofwinewriters.org/wp-content/uploads/2024/08/calendarofevents24SpritzSips.png
ORGANIZER;CN="Spritz Marketing":MAILTO:gemma@spritzmarketing.co.uk
END:VEVENT
END:VCALENDAR