BEGIN:VCALENDAR
VERSION:2.0
PRODID:-//Circle of Wine Writers - ECPv6.3.5//NONSGML v1.0//EN
CALSCALE:GREGORIAN
METHOD:PUBLISH
X-WR-CALNAME:Circle of Wine Writers
X-ORIGINAL-URL:https://www.circleofwinewriters.org
X-WR-CALDESC:Events for Circle of Wine Writers
REFRESH-INTERVAL;VALUE=DURATION:PT1H
X-Robots-Tag:noindex
X-PUBLISHED-TTL:PT1H
BEGIN:VTIMEZONE
TZID:Europe/London
BEGIN:DAYLIGHT
TZOFFSETFROM:+0000
TZOFFSETTO:+0100
TZNAME:BST
DTSTART:20250330T010000
END:DAYLIGHT
BEGIN:STANDARD
TZOFFSETFROM:+0100
TZOFFSETTO:+0000
TZNAME:GMT
DTSTART:20251026T010000
END:STANDARD
END:VTIMEZONE
BEGIN:VEVENT
DTSTART;TZID=Europe/London:20250116T100000
DTEND;TZID=Europe/London:20250116T170000
DTSTAMP:20260419T143747
CREATED:20241210T103559Z
LAST-MODIFIED:20241210T103559Z
UID:54469-1737021600-1737046800@www.circleofwinewriters.org
SUMMARY:Business France - VIN 2025: a French Wine Tasting
DESCRIPTION:Immerse yourself in the world of French wine from Jura to the Rhône\, Languedoc to Corsica. \nA mix of wines seeking representation & products already on the UK market with 40+ producers \nAnne McHale will be leading wine walks around the tasting (more information to follow) \nSee you there! \nREGISTER HERE
URL:https://www.circleofwinewriters.org/event/business-france-vin-2025-a-french-wine-tasting/
LOCATION:Hyatt Regency London – The Churchill\, 30 Portman Square\, London\, W1H 7BH
ATTACH;FMTTYPE=image/jpeg:https://www.circleofwinewriters.org/wp-content/uploads/2024/12/calendarofeventsBusinessFranceVIN25-e1733826718530.jpg
ORGANIZER;CN="Business France":MAILTO:pandora.mistry@businessfrance.fr
END:VEVENT
END:VCALENDAR