BEGIN:VCALENDAR
VERSION:2.0
PRODID:-//Circle of Wine Writers - ECPv6.3.5//NONSGML v1.0//EN
CALSCALE:GREGORIAN
METHOD:PUBLISH
X-WR-CALNAME:Circle of Wine Writers
X-ORIGINAL-URL:https://www.circleofwinewriters.org
X-WR-CALDESC:Events for Circle of Wine Writers
REFRESH-INTERVAL;VALUE=DURATION:PT1H
X-Robots-Tag:noindex
X-PUBLISHED-TTL:PT1H
BEGIN:VTIMEZONE
TZID:Europe/London
BEGIN:DAYLIGHT
TZOFFSETFROM:+0000
TZOFFSETTO:+0100
TZNAME:BST
DTSTART:20250330T010000
END:DAYLIGHT
BEGIN:STANDARD
TZOFFSETFROM:+0100
TZOFFSETTO:+0000
TZNAME:GMT
DTSTART:20251026T010000
END:STANDARD
END:VTIMEZONE
BEGIN:VEVENT
DTSTART;TZID=Europe/London:20250506T170000
DTEND;TZID=Europe/London:20250506T180000
DTSTAMP:20260420T000425
CREATED:20250428T113708Z
LAST-MODIFIED:20250428T113708Z
UID:55139-1746550800-1746554400@www.circleofwinewriters.org
SUMMARY:CWW Let's talk about... Georgian Qvevri wines\, then and now\, with Carla Capalbo
DESCRIPTION:Focusing on Georgia’s 8\,000 year-old winemaking tradition in large clay pots (qvevri)\, Carla has subtitled her presentation Family winemaking from Soviet times to today’s protests. She will talk us through the last 100 years to arrive at the current nightly demonstrations against the government and their repercussions for the wines and their makers. \nCarla Capalbo\, a Circle member\, is a food and wine writer and photographer. She’s based again in London after 25 years of living in Italy. She has written 14 books\, including three regional guides to Italy’s food and wine (Tuscany 1998\, Campania 2006 and Collio 2010\, which won the André Simon Best Wine Book Award). In 2017\, after visiting Georgia extensively over three years\, she published her large book\, Tasting Georgia\, A Food and Wine Journey in the Caucasus (winner of several awards\, including the Guild of Food Writer’s Food and Travel Award\, this book was ranked one of the six best travel books of the last decade by Newsweek). \nTo join this Zoom seminar\, please register now or at any time before 5pm BST on May 6th. The session\, including Q&As\, will last for approximately one hour. To register\, follow the links below. Guests will be very welcome\, but please let Andrea know their names. \nRegister in advance for this meeting:\nhttps://us06web.zoom.us/meeting/register/XUDK5dCdQzSV_CZVlaR5PQ  \nAfter registering\, you will receive a confirmation email containing information about joining the webinar. \nWe look forward to seeing you then. \nIf you can’t attend the live session\, there will be a recording available to watch afterwards on the Circle’s YouTube channel (find links to this and earlier sessions in the members’ area of the website). \nMichèle Shah & Liz Sagues\, CWW online events organisers
URL:https://www.circleofwinewriters.org/event/cww-lets-talk-about-georgian-qvevri-wines-then-and-now-with-carla-capalbo/
ATTACH;FMTTYPE=image/jpeg:https://www.circleofwinewriters.org/wp-content/uploads/2020/12/CarlaCapalboTGCoverF-110280-e1745840137834.jpeg
ORGANIZER;CN="Circle of Wine Writers":MAILTO:administrator@circleofwinewriters.org
END:VEVENT
END:VCALENDAR