BEGIN:VCALENDAR
VERSION:2.0
PRODID:-//Circle of Wine Writers - ECPv6.3.5//NONSGML v1.0//EN
CALSCALE:GREGORIAN
METHOD:PUBLISH
X-WR-CALNAME:Circle of Wine Writers
X-ORIGINAL-URL:https://www.circleofwinewriters.org
X-WR-CALDESC:Events for Circle of Wine Writers
REFRESH-INTERVAL;VALUE=DURATION:PT1H
X-Robots-Tag:noindex
X-PUBLISHED-TTL:PT1H
BEGIN:VTIMEZONE
TZID:Europe/London
BEGIN:DAYLIGHT
TZOFFSETFROM:+0000
TZOFFSETTO:+0100
TZNAME:BST
DTSTART:20250330T010000
END:DAYLIGHT
BEGIN:STANDARD
TZOFFSETFROM:+0100
TZOFFSETTO:+0000
TZNAME:GMT
DTSTART:20251026T010000
END:STANDARD
END:VTIMEZONE
BEGIN:VEVENT
DTSTART;TZID=Europe/London:20250605T103000
DTEND;TZID=Europe/London:20250605T120000
DTSTAMP:20260419T200600
CREATED:20250328T094340Z
LAST-MODIFIED:20250328T094840Z
UID:55041-1749119400-1749124800@www.circleofwinewriters.org
SUMMARY:Te Kano masterclass
DESCRIPTION:Spritz marketing invite you to a masterclass hosted by visiting New Zealander and Te Kano winemaker Dave Sutton; in his masterclass he will be showcasing a selection of single site pinots and chardonnays. \n 
URL:https://www.circleofwinewriters.org/event/te-kano-masterclass/
LOCATION:Swan\, The Balcony Room\, 21 New Globe Walk\, Bankside\, London\, SE1 9DT
ATTACH;FMTTYPE=image/jpeg:https://www.circleofwinewriters.org/wp-content/uploads/2025/03/calendarofeventsSpritzTeKanoJune.jpg
ORGANIZER;CN="Spritz Marketing":MAILTO:gemma@spritzmarketing.co.uk
END:VEVENT
END:VCALENDAR