BEGIN:VCALENDAR
VERSION:2.0
PRODID:-//Circle of Wine Writers - ECPv6.3.5//NONSGML v1.0//EN
CALSCALE:GREGORIAN
METHOD:PUBLISH
X-ORIGINAL-URL:https://www.circleofwinewriters.org
X-WR-CALDESC:Events for Circle of Wine Writers
REFRESH-INTERVAL;VALUE=DURATION:PT1H
X-Robots-Tag:noindex
X-PUBLISHED-TTL:PT1H
BEGIN:VTIMEZONE
TZID:Europe/London
BEGIN:DAYLIGHT
TZOFFSETFROM:+0000
TZOFFSETTO:+0100
TZNAME:BST
DTSTART:20250330T010000
END:DAYLIGHT
BEGIN:STANDARD
TZOFFSETFROM:+0100
TZOFFSETTO:+0000
TZNAME:GMT
DTSTART:20251026T010000
END:STANDARD
END:VTIMEZONE
BEGIN:VEVENT
DTSTART;TZID=Europe/London:20250606T170000
DTEND;TZID=Europe/London:20250606T180000
DTSTAMP:20260419T200615
CREATED:20250210T102026Z
LAST-MODIFIED:20250210T102026Z
UID:54866-1749229200-1749232800@www.circleofwinewriters.org
SUMMARY:CWW AGM 2025 notification
DESCRIPTION:2025 AGM notification – due to be held on Friday 6 June at 5 pm BST online. Link will be added here to join the meeting. \nDetails to follow. \n 
URL:https://www.circleofwinewriters.org/event/cww-agm-2025-notification/
ATTACH;FMTTYPE=image/jpeg:https://www.circleofwinewriters.org/wp-content/uploads/2022/12/CWWlogoCOE.jpg
ORGANIZER;CN="Circle of Wine Writers":MAILTO:administrator@circleofwinewriters.org
END:VEVENT
END:VCALENDAR