BEGIN:VCALENDAR
VERSION:2.0
PRODID:-//Circle of Wine Writers - ECPv6.3.5//NONSGML v1.0//EN
CALSCALE:GREGORIAN
METHOD:PUBLISH
X-ORIGINAL-URL:https://www.circleofwinewriters.org
X-WR-CALDESC:Events for Circle of Wine Writers
REFRESH-INTERVAL;VALUE=DURATION:PT1H
X-Robots-Tag:noindex
X-PUBLISHED-TTL:PT1H
BEGIN:VTIMEZONE
TZID:Europe/London
BEGIN:DAYLIGHT
TZOFFSETFROM:+0000
TZOFFSETTO:+0100
TZNAME:BST
DTSTART:20250330T010000
END:DAYLIGHT
BEGIN:STANDARD
TZOFFSETFROM:+0100
TZOFFSETTO:+0000
TZNAME:GMT
DTSTART:20251026T010000
END:STANDARD
END:VTIMEZONE
BEGIN:VEVENT
DTSTART;VALUE=DATE:20250621
DTEND;VALUE=DATE:20250630
DTSTAMP:20260419T200640
CREATED:20250314T122351Z
LAST-MODIFIED:20250324T095811Z
UID:54955-1750464000-1751241599@www.circleofwinewriters.org
SUMMARY:English Wine Week
DESCRIPTION:Please use contact email Talya Roberson at Wine GB for more details.
URL:https://www.circleofwinewriters.org/event/english-wine-week/
ATTACH;FMTTYPE=image/png:https://www.circleofwinewriters.org/wp-content/uploads/2025/03/calendarofevents25WinesGB-e1742810261297.png
ORGANIZER;CN="WineGB":MAILTO:Tayla@winegb.co.uk
END:VEVENT
END:VCALENDAR