BEGIN:VCALENDAR
VERSION:2.0
PRODID:-//Circle of Wine Writers - ECPv6.3.5//NONSGML v1.0//EN
CALSCALE:GREGORIAN
METHOD:PUBLISH
X-ORIGINAL-URL:https://www.circleofwinewriters.org
X-WR-CALDESC:Events for Circle of Wine Writers
REFRESH-INTERVAL;VALUE=DURATION:PT1H
X-Robots-Tag:noindex
X-PUBLISHED-TTL:PT1H
BEGIN:VTIMEZONE
TZID:Europe/London
BEGIN:DAYLIGHT
TZOFFSETFROM:+0000
TZOFFSETTO:+0100
TZNAME:BST
DTSTART:20250330T010000
END:DAYLIGHT
BEGIN:STANDARD
TZOFFSETFROM:+0100
TZOFFSETTO:+0000
TZNAME:GMT
DTSTART:20251026T010000
END:STANDARD
END:VTIMEZONE
BEGIN:VEVENT
DTSTART;TZID=Europe/London:20250828T183000
DTEND;TZID=Europe/London:20250828T223000
DTSTAMP:20260419T165354
CREATED:20250721T113428Z
LAST-MODIFIED:20250721T113428Z
UID:55376-1756405800-1756420200@www.circleofwinewriters.org
SUMMARY:Benguela Wine & Dine
DESCRIPTION:Sip\, Savour\, and Indulge with Benguela Wine & Dine \nTransport yourself to the heart of South African wine country right here in West Sussex. Leonardslee’s sister estate\, Benguela Cove Lagoon Wine Estate located in the renowned Walker Bay wine region\, famed for its unique maritime climate\, discover our award-winning wines from the sunlit slopes of South Africa. \n£67 per person  \nWhat to Expect \nWelcome Bubbles & Canapés\nBegin with a glass of Benguela Cove sparkling wine\, perfectly complemented by delicately crafted canapés. \nFour-Course Gourmet Pairing\nDelight in a specially curated four-course menu\, with each dish perfectly paired to showcase the exceptional wines of Benguela Cove. \nBook: https://leonardsleefamilyvineyards.com/our-events
URL:https://www.circleofwinewriters.org/event/benguela-wine-dine/
LOCATION:Leonardslee Wine Estate
ATTACH;FMTTYPE=image/jpeg:https://www.circleofwinewriters.org/wp-content/uploads/2025/07/calendarofeventsMannings25Aug28-e1753097251889.jpg
END:VEVENT
END:VCALENDAR