BEGIN:VCALENDAR
VERSION:2.0
PRODID:-//Circle of Wine Writers - ECPv6.3.5//NONSGML v1.0//EN
CALSCALE:GREGORIAN
METHOD:PUBLISH
X-WR-CALNAME:Circle of Wine Writers
X-ORIGINAL-URL:https://www.circleofwinewriters.org
X-WR-CALDESC:Events for Circle of Wine Writers
REFRESH-INTERVAL;VALUE=DURATION:PT1H
X-Robots-Tag:noindex
X-PUBLISHED-TTL:PT1H
BEGIN:VTIMEZONE
TZID:Europe/London
BEGIN:DAYLIGHT
TZOFFSETFROM:+0000
TZOFFSETTO:+0100
TZNAME:BST
DTSTART:20180325T010000
END:DAYLIGHT
BEGIN:STANDARD
TZOFFSETFROM:+0100
TZOFFSETTO:+0000
TZNAME:GMT
DTSTART:20181028T010000
END:STANDARD
END:VTIMEZONE
BEGIN:VEVENT
DTSTART;TZID=Europe/London:20180214T100000
DTEND;TZID=Europe/London:20180214T170000
DTSTAMP:20260425T154933
CREATED:20180126T140831Z
LAST-MODIFIED:20180126T141303Z
UID:16848-1518602400-1518627600@www.circleofwinewriters.org
SUMMARY:Koshu of Japan Trade & Press Tasting
DESCRIPTION:Taste an extensive range of wines from the nine wineries that are part of the Koshu of Japan organisation from the Yamanashi Prefecture\, Japan’s most premium wine-growing region. The focus of the tasting will be on the new 2017 vintage of Koshu\, in addition to a smaller selection of international grape varieties including Merlot\, Cabernet Sauvignon and Chardonnay. \nStrictly trade only.\nPlease register with: koj@thisisphipps.com\n(02077 597400).
URL:https://www.circleofwinewriters.org/event/koshu-japan-trade-press-tasting/
LOCATION:St James’s\, 67 Pall Mall\, London\, London\, SW1Y 5ES\, United Kingdom
CATEGORIES:Tasting
ATTACH;FMTTYPE=image/png:https://www.circleofwinewriters.org/wp-content/uploads/2018/01/Screen-Shot-2018-01-26-at-11.02.45.png
ORGANIZER;CN="":MAILTO:koj@thisisphipps.com 
END:VEVENT
END:VCALENDAR