BEGIN:VCALENDAR
VERSION:2.0
PRODID:-//Circle of Wine Writers - ECPv6.3.5//NONSGML v1.0//EN
CALSCALE:GREGORIAN
METHOD:PUBLISH
X-WR-CALNAME:Circle of Wine Writers
X-ORIGINAL-URL:https://www.circleofwinewriters.org
X-WR-CALDESC:Events for Circle of Wine Writers
REFRESH-INTERVAL;VALUE=DURATION:PT1H
X-Robots-Tag:noindex
X-PUBLISHED-TTL:PT1H
BEGIN:VTIMEZONE
TZID:Europe/London
BEGIN:DAYLIGHT
TZOFFSETFROM:+0000
TZOFFSETTO:+0100
TZNAME:BST
DTSTART:20180325T010000
END:DAYLIGHT
BEGIN:STANDARD
TZOFFSETFROM:+0100
TZOFFSETTO:+0000
TZNAME:GMT
DTSTART:20181028T010000
END:STANDARD
END:VTIMEZONE
BEGIN:VEVENT
DTSTART;TZID=Europe/London:20180315T110000
DTEND;TZID=Europe/London:20180315T160000
DTSTAMP:20260425T141626
CREATED:20180225T190214Z
LAST-MODIFIED:20180308T140234Z
UID:18166-1521111600-1521129600@www.circleofwinewriters.org
SUMMARY:Californian Chardonnay and Pinot Noir
DESCRIPTION:Californian Chardonnay and Pinot Noir are two of the most distinctive styles of wine coming out of the Golden State\, and yet within the past decade a host of new producers have emerged who are challenging the prevailing popular styles\, generating a sense of reinvigoration and creating a more complex\, dynamic and fascinating view of what these two benchmark varieties mean to California. \nA range of wines showing classic Californian texture\, and thrilling cool-climate freshness will be on offer at the tasting. This is the perfect opportunity to understand California Chardonnay and Pinot Noir in all its nuanced glory focussing on the following regions: Santa Barbara County\, Sonoma Coast and Sonoma Valley\, Napa\, Mendocino County\, Monterey & Central Coast. \nTime: 11am-4pm (Trade and Press guests only) \nLocation: 67 Pall Mall – St James’s Room \nContact Sara Davy for more information: sara@randr.co.uk
URL:https://www.circleofwinewriters.org/event/californian-chardonnay-pinot-noir/
LOCATION:St James’s\, 67 Pall Mall\, London\, London\, SW1Y 5ES\, United Kingdom
CATEGORIES:Tasting
ATTACH;FMTTYPE=image/jpeg:https://www.circleofwinewriters.org/wp-content/uploads/2018/02/image001-2.jpg
END:VEVENT
END:VCALENDAR