BEGIN:VCALENDAR
VERSION:2.0
PRODID:-//Circle of Wine Writers - ECPv6.3.5//NONSGML v1.0//EN
CALSCALE:GREGORIAN
METHOD:PUBLISH
X-ORIGINAL-URL:https://www.circleofwinewriters.org
X-WR-CALDESC:Events for Circle of Wine Writers
REFRESH-INTERVAL;VALUE=DURATION:PT1H
X-Robots-Tag:noindex
X-PUBLISHED-TTL:PT1H
BEGIN:VTIMEZONE
TZID:Europe/London
BEGIN:DAYLIGHT
TZOFFSETFROM:+0000
TZOFFSETTO:+0100
TZNAME:BST
DTSTART:20180325T010000
END:DAYLIGHT
BEGIN:STANDARD
TZOFFSETFROM:+0100
TZOFFSETTO:+0000
TZNAME:GMT
DTSTART:20181028T010000
END:STANDARD
END:VTIMEZONE
BEGIN:VEVENT
DTSTART;TZID=Europe/London:20180316T110000
DTEND;TZID=Europe/London:20180316T130000
DTSTAMP:20260425T141605
CREATED:20180308T142331Z
LAST-MODIFIED:20180308T142331Z
UID:18437-1521198000-1521205200@www.circleofwinewriters.org
SUMMARY:Lodi Tasting
DESCRIPTION:Lodi is a treasure-trove of hidden secrets and the home of some of California’s most interesting old-vine vineyards. Best known for head-trained Zinfandel\, there are also incredible plots of Cinsault\, Petite Sirah\, and other fascinating varieties grown side-by-side with great-value versions of the international varieties such as Cabernet\, Chardonnay and Merlot. As one of California’s largest regions by acreage there is a massively diverse range of wines being made to suit all customers. Join us at Noble Rot to uncover these gems from Lodi in an intimate walk-around tasting\, both with UK representation and those new to the market. \n\nTime tasting: 11am-1pm (Trade and Press guests only)\nLocation: Noble Rot Restaurant and Wine Bar\nRSVP: eleanor@randr.co.uk \nLimited Spaces Available
URL:https://www.circleofwinewriters.org/event/lodi-tasting/
LOCATION:Noble Rot\, 51 Lamb's Conduit Street\, London\, WC1N 3NB\, United Kingdom
CATEGORIES:Tasting
ATTACH;FMTTYPE=image/jpeg:https://www.circleofwinewriters.org/wp-content/uploads/2018/03/image003.jpg
END:VEVENT
END:VCALENDAR