BEGIN:VCALENDAR
VERSION:2.0
PRODID:-//Circle of Wine Writers - ECPv6.3.5//NONSGML v1.0//EN
CALSCALE:GREGORIAN
METHOD:PUBLISH
X-ORIGINAL-URL:https://www.circleofwinewriters.org
X-WR-CALDESC:Events for Circle of Wine Writers
REFRESH-INTERVAL;VALUE=DURATION:PT1H
X-Robots-Tag:noindex
X-PUBLISHED-TTL:PT1H
BEGIN:VTIMEZONE
TZID:Europe/London
BEGIN:DAYLIGHT
TZOFFSETFROM:+0000
TZOFFSETTO:+0100
TZNAME:BST
DTSTART:20180325T010000
END:DAYLIGHT
BEGIN:STANDARD
TZOFFSETFROM:+0100
TZOFFSETTO:+0000
TZNAME:GMT
DTSTART:20181028T010000
END:STANDARD
END:VTIMEZONE
BEGIN:VEVENT
DTSTART;TZID=Europe/London:20180326T140000
DTEND;TZID=Europe/London:20180326T160000
DTSTAMP:20260425T124707
CREATED:20180319T121254Z
LAST-MODIFIED:20180319T130945Z
UID:18821-1522072800-1522080000@www.circleofwinewriters.org
SUMMARY:Amorim Cork and Wine Faults Seminar
DESCRIPTION:PUT A CORK IN IT! \nWhy are fine wines invariably closed with a cork – but why do we use the term ‘corked’ to describe all faulty wines? What causes those faults\, and how can we identify\, and name\, them? \nDr Paulo Lopes\, the R&D lead at Amorim – the Portuguese world leader in the production of whole\, natural corks – will be in London to give a very special presentation to trade\,  press\,  sommeliers and  wine students on Monday March 26th at 67 Pall Mall\, from 2pm to 4pm. \nHe will focus not only on the huge strides being made by the cork industry for its future\, but also on what happens to the wine when bottled and why closures can affect the wine inside in various ways. \nThis is a unique opportunity to not only learn more about the whole range of cork stoppers\, their production and quality controls\, but also to discover different wine faults  in depth. What they are\, how to spot them\, and how they are caused – together with hands-on ‘nosing’ and experimenting. \nFascinating stuff\, distilled into a simple approach to help anyone when opening bottles for their guests. \nEntry is free\, but space is limited.  To book your place contact Fiona Campbell on 01225 7982095 or email at fionaccampbell@btopenworld.com \n 
URL:https://www.circleofwinewriters.org/event/amorim-cork-and-wine-faults-seminar/
LOCATION:China Exchange\, 32A Gerrard Street\, London\, W1D 6JA
CATEGORIES:Tasting
ATTACH;FMTTYPE=image/jpeg:https://www.circleofwinewriters.org/wp-content/uploads/2018/03/amorim-logo300dpi.jpg
ORGANIZER;CN="Fiona Campbell":MAILTO:fionacampbell@btopenworld.com
END:VEVENT
END:VCALENDAR