BEGIN:VCALENDAR
VERSION:2.0
PRODID:-//Circle of Wine Writers - ECPv6.3.5//NONSGML v1.0//EN
CALSCALE:GREGORIAN
METHOD:PUBLISH
X-WR-CALNAME:Circle of Wine Writers
X-ORIGINAL-URL:https://www.circleofwinewriters.org
X-WR-CALDESC:Events for Circle of Wine Writers
REFRESH-INTERVAL;VALUE=DURATION:PT1H
X-Robots-Tag:noindex
X-PUBLISHED-TTL:PT1H
BEGIN:VTIMEZONE
TZID:Europe/London
BEGIN:DAYLIGHT
TZOFFSETFROM:+0000
TZOFFSETTO:+0100
TZNAME:BST
DTSTART:20180325T010000
END:DAYLIGHT
BEGIN:STANDARD
TZOFFSETFROM:+0100
TZOFFSETTO:+0000
TZNAME:GMT
DTSTART:20181028T010000
END:STANDARD
END:VTIMEZONE
BEGIN:VEVENT
DTSTART;TZID=Europe/London:20180426T103000
DTEND;TZID=Europe/London:20180426T170000
DTSTAMP:20260425T124533
CREATED:20180329T212230Z
LAST-MODIFIED:20180329T212230Z
UID:19225-1524738600-1524762000@www.circleofwinewriters.org
SUMMARY:Wines of GB Trade & Press Tasting 2018
DESCRIPTION:What’s on\n•	Exhibiting producers from around the country\n•	A central table featuring wines arranged in order of style\n•	Seminars\, panel discussions and addresses from key-note speakers will take place during the day\n•	The industry briefing unveiling our latest data and projections\n•	Information on English Wine Week and Welsh Wine Week \nFor more information\, email: tradetasting@winegb.co.uk
URL:https://www.circleofwinewriters.org/event/wines-of-gb-trade-press-tasting-2018/
LOCATION:RHS Lindley Hall\, Elverton Street\, London\, SW1P 2QW\, United Kingdom
CATEGORIES:Tasting
ATTACH;FMTTYPE=image/png:https://www.circleofwinewriters.org/wp-content/uploads/2018/03/Wines-of-GB.png
ORGANIZER;CN="Wines of Great Britain":MAILTO:tradetasting@winegb.co.uk
END:VEVENT
END:VCALENDAR