BEGIN:VCALENDAR
VERSION:2.0
PRODID:-//Circle of Wine Writers - ECPv6.3.5//NONSGML v1.0//EN
CALSCALE:GREGORIAN
METHOD:PUBLISH
X-WR-CALNAME:Circle of Wine Writers
X-ORIGINAL-URL:https://www.circleofwinewriters.org
X-WR-CALDESC:Events for Circle of Wine Writers
REFRESH-INTERVAL;VALUE=DURATION:PT1H
X-Robots-Tag:noindex
X-PUBLISHED-TTL:PT1H
BEGIN:VTIMEZONE
TZID:Europe/London
BEGIN:DAYLIGHT
TZOFFSETFROM:+0000
TZOFFSETTO:+0100
TZNAME:BST
DTSTART:20180325T010000
END:DAYLIGHT
BEGIN:STANDARD
TZOFFSETFROM:+0100
TZOFFSETTO:+0000
TZNAME:GMT
DTSTART:20181028T010000
END:STANDARD
END:VTIMEZONE
BEGIN:VEVENT
DTSTART;VALUE=DATE:20180517
DTEND;VALUE=DATE:20180518
DTSTAMP:20260425T111739
CREATED:20180308T145521Z
LAST-MODIFIED:20180308T145521Z
UID:18452-1526515200-1526601599@www.circleofwinewriters.org
SUMMARY:Canada Tasting
DESCRIPTION:At this year’s Canada Trade Tasting there will be wines and producers from British Columbia\, Nova Scotia\, Ontario and Quebec. \n  \nRSVP online
URL:https://www.circleofwinewriters.org/event/canada-tasting/
LOCATION:Canada House\, Trafalgar Square\, London\, SW1Y 5BJ\, United Kingdom
CATEGORIES:Tasting
ATTACH;FMTTYPE=image/png:https://www.circleofwinewriters.org/wp-content/uploads/2018/03/Screen-Shot-2018-03-08-at-11.54.55.png
END:VEVENT
END:VCALENDAR