BEGIN:VCALENDAR
VERSION:2.0
PRODID:-//Circle of Wine Writers - ECPv6.3.5//NONSGML v1.0//EN
CALSCALE:GREGORIAN
METHOD:PUBLISH
X-ORIGINAL-URL:https://www.circleofwinewriters.org
X-WR-CALDESC:Events for Circle of Wine Writers
REFRESH-INTERVAL;VALUE=DURATION:PT1H
X-Robots-Tag:noindex
X-PUBLISHED-TTL:PT1H
BEGIN:VTIMEZONE
TZID:Europe/London
BEGIN:DAYLIGHT
TZOFFSETFROM:+0000
TZOFFSETTO:+0100
TZNAME:BST
DTSTART:20180325T010000
END:DAYLIGHT
BEGIN:STANDARD
TZOFFSETFROM:+0100
TZOFFSETTO:+0000
TZNAME:GMT
DTSTART:20181028T010000
END:STANDARD
END:VTIMEZONE
BEGIN:VEVENT
DTSTART;VALUE=DATE:20180517
DTEND;VALUE=DATE:20180518
DTSTAMP:20260425T171320
CREATED:20180308T145521Z
LAST-MODIFIED:20180308T145521Z
UID:18452-1526515200-1526601599@www.circleofwinewriters.org
SUMMARY:Canada Tasting
DESCRIPTION:At this year’s Canada Trade Tasting there will be wines and producers from British Columbia\, Nova Scotia\, Ontario and Quebec. \n  \nRSVP online
URL:https://www.circleofwinewriters.org/event/canada-tasting/
LOCATION:Canada House\, Trafalgar Square\, London\, SW1Y 5BJ\, United Kingdom
CATEGORIES:Tasting
ATTACH;FMTTYPE=image/png:https://www.circleofwinewriters.org/wp-content/uploads/2018/03/Screen-Shot-2018-03-08-at-11.54.55.png
END:VEVENT
BEGIN:VEVENT
DTSTART;VALUE=DATE:20180521
DTEND;VALUE=DATE:20180524
DTSTAMP:20260425T171320
CREATED:20180308T144637Z
LAST-MODIFIED:20180308T144637Z
UID:18448-1526860800-1527119999@www.circleofwinewriters.org
SUMMARY:London Wine Fair
DESCRIPTION:Taste thousands of wines from around the world\nThis is your chance to comparatively taste 14\,000+ wines from every region and price bracket\, from France to Australia\, Uruguay to the USA. The packed schedule of masterclasses is run by a who’s who of drinks expertise\, with guided tastings from Lafite to London Gin\, plus we’re even creating a dedicated Education Zone\, in partnership with WSET\, to make sure your knowledge is top-notch.
URL:https://www.circleofwinewriters.org/event/london-wine-fair/
LOCATION:Olympia London\, Olympia London\, London\, W14 8UX\, United Kingdom
CATEGORIES:Masterclass,Tasting
ATTACH;FMTTYPE=image/png:https://www.circleofwinewriters.org/wp-content/uploads/2018/03/Screen-Shot-2018-03-08-at-11.46.07.png
END:VEVENT
BEGIN:VEVENT
DTSTART;TZID=Europe/London:20180621T163000
DTEND;TZID=Europe/London:20180621T180000
DTSTAMP:20260425T171320
CREATED:20180329T210653Z
LAST-MODIFIED:20180604T120652Z
UID:19221-1529598600-1529604000@www.circleofwinewriters.org
SUMMARY:FVD 2018 Summer Tasting
DESCRIPTION:FromVineyardsDirect.com will be hosting a summer tasting on Thursday 21st June at the Orangery in Holland Park. \nThere will be a selection of around 80 wines to try and producers will be present. \nThe press-only tasting session is from 4.30pm to 6pm\, and of course you are most welcome to enjoy the evening beyond this. \nTo reply or for further information\, please contact Sarah or Janet at Accent Communications: sarah@accent-communications.com / 020 8661 2016
URL:https://www.circleofwinewriters.org/event/fvd-2018-portfolio-tasting/
LOCATION:The Orangery\, Holland Park\, Kensington\, W8 6LU\, United Kingdom
CATEGORIES:Tasting
ATTACH;FMTTYPE=image/png:https://www.circleofwinewriters.org/wp-content/uploads/2018/03/FVD-new-logo.png
ORGANIZER;CN="Accent Communications":MAILTO:sarah@accentcommunications
END:VEVENT
BEGIN:VEVENT
DTSTART;VALUE=DATE:20180903
DTEND;VALUE=DATE:20180904
DTSTAMP:20260425T171320
CREATED:20180709T141554Z
LAST-MODIFIED:20180808T144616Z
UID:23334-1535932800-1536019199@www.circleofwinewriters.org
SUMMARY:Franciacorta Annual Showcase 2018
DESCRIPTION:Franciacorta’s Annual Showcase is being held at 67 Pall Mall on Monday 3rd September 2018. During the morning the showcase will display exquisite wines seeking distribution in the UK\, followed by an afternoon tasting showcasing wines that are available in the UK.
URL:https://www.circleofwinewriters.org/event/franciacorta-annual-showcase/
LOCATION:China Exchange\, 32A Gerrard Street\, London\, W1D 6JA
CATEGORIES:Tasting
ATTACH;FMTTYPE=image/png:https://www.circleofwinewriters.org/wp-content/uploads/2018/07/Screen-Shot-2018-07-09-at-15.17.46.png
END:VEVENT
BEGIN:VEVENT
DTSTART;TZID=Europe/London:20180906T130000
DTEND;TZID=Europe/London:20180906T170000
DTSTAMP:20260425T171320
CREATED:20180628T133649Z
LAST-MODIFIED:20180718T133047Z
UID:22936-1536238800-1536253200@www.circleofwinewriters.org
SUMMARY:Wine Australia - Mornington Peninsula Wines tasting
DESCRIPTION:September 2018 will see a talented group of winemakers from the Mornington Peninsula in Victoria\, Australia\, return to the UK for a series of tastings and masterclasses promoting the region\, its wines and its personalities. \nThe group of nine illustrious wineries includes Crittenden Estate\, Kooyong\, Moorooduc Estate\, Ocean Eight\, Paringa Estate\, Polperro\, Port Phillip Estate\, Stonier\, Ten Minutes by Tractor and Yabby Lake Vineyard.  They first came to the UK as a group to promote the region in 2016 and due to the success of their visit\, are returning with new stories to tell\, new wines to taste and more people to meet.  Focusing on Pinot Noir and Chardonnay\, the main event on Thursday 6th September will start with an intimate masterclass hosted by Australian expert Matthew Jukes\, followed by a free-pour trade tasting in the afternoon where all the wineries will be showcasing a selection of wines. \nThe combination of powerhouse pioneers\, winemakers\, owners\, legends and the ‘next-generation’\, will certainly create a buzz in the trade as they make their way across the UK.  The wineries on tour have ambitious aspirations and will be engaging further with trade and consumers in events across the south east including Vinoteca\, 67 Pall Mall\, The Wine Society and The Harrow at Little Bedwyn. \nMornington Peninsula is less than an hour’s drive south-east of Melbourne and enjoys a cool\, maritime climate\, which is evident in the world-class wines it produces. These award-winning wines are predominantly made from Pinot Noir and Chardonnay\, although some cool-climate styles of Shiraz and Pinot Gris are also produced.  With smaller\, family-run wineries dominating the wine scene in this small region\, the focus is on quality\, character\, elegance and longevity. \nMatthew Jukes says\, “It is very exciting to be welcoming back the Mornington Peninsula winemakers to the UK as this is one of the elite wine regions in the world and the wines on tasting will further underline the incredible standard of Chardonnay and Pinot Noir produced in this idyllic peninsula.”  \n 
URL:https://www.circleofwinewriters.org/event/wine-australia-mornington-peninsula-wines-tasting/
LOCATION:Australia House\, Strand\, London\, WC2B 4LA
CATEGORIES:Masterclass,Tasting
ATTACH;FMTTYPE=image/png:https://www.circleofwinewriters.org/wp-content/uploads/2018/06/unnamed.png
ORGANIZER;CN="Wine Australia":MAILTO:Emma.Baumann@wineaustralia.com
END:VEVENT
BEGIN:VEVENT
DTSTART;TZID=Europe/London:20180919T180000
DTEND;TZID=Europe/London:20180919T200000
DTSTAMP:20260425T171320
CREATED:20180807T115353Z
LAST-MODIFIED:20180807T115353Z
UID:24101-1537380000-1537387200@www.circleofwinewriters.org
SUMMARY:Meet the Chardonnay & Cabernet Crusaders
DESCRIPTION:Meet the Chardonnay and Cabernet crusaders in this double tasting on Wednesday 19th September: \n\nHugh Crichton\, of Vidal Estate in Hawkes Bay\, is championing Chardonnay\nAlastair Rimmer\, of Kleine Zalze in Stellanbosch\, is championing Cabernet Sauvignon\n\nBoth winemakers will be showcasing three of their own wines and two that have inspired them.
URL:https://www.circleofwinewriters.org/event/meet-the-chardonnay-cabernet-crusaders/
LOCATION:Villandry St James\, 12 Waterloo Place\, London\, SW1Y 4AU\, United Kingdom
CATEGORIES:Tasting
ATTACH;FMTTYPE=image/png:https://www.circleofwinewriters.org/wp-content/uploads/2018/08/Screen-Shot-2018-08-07-at-12.52.24.png
ORGANIZER;CN="R&R Teamwork":MAILTO:eleanor@randr.co.uk
END:VEVENT
BEGIN:VEVENT
DTSTART;TZID=Europe/London:20181023T110000
DTEND;TZID=Europe/London:20181023T160000
DTSTAMP:20260425T171320
CREATED:20180308T143516Z
LAST-MODIFIED:20180927T081305Z
UID:18445-1540292400-1540310400@www.circleofwinewriters.org
SUMMARY:Le Club des Grands Domaines\, Vignobles & Signatures Tasting
DESCRIPTION:Le Club Des Grands Domaines\, Vignobles & Signatures will hold their first ever UK trade tasting where all 16 member producers* from Champagne\, Alsace\, Burgundy\, Beaujolais\, the Rhône Valley\, Provence\, South-West France\, Bordeaux\, Armagnac\, Languedoc and Roussillon\, the Loire Valley and Calvados\, will showcase their wines. \nWhere: University Women’s Club\, 2 Audley Square\, London\, W1K 1DB \nWhen: 23rd October\, 11am-4pm \n RSVP emanuele@randr.co.uk; 020 7384 1333 to secure your place \n* Domaine Paul Blanck & Fils\, Domaines Cauhapé\, Couly-Dutheil\, Coume Del Mas\, Champagne Drappier\, Jean Durup Père et Fils\, Figuière\, Roger Groult\, Guilbaud Frères\, Vignobles Joseph Janoueix\, Alain Jaume\, Famille Lesgourgues\, Famille Orliac – Domaine de L’Hortus\, Domaines Dominique Piron\, Famille Roux – Domaine Roux\, Château de Tracy \n 
URL:https://www.circleofwinewriters.org/event/le-club-des-grands-domaines-vignobles-signatures-tasting/
LOCATION:University Women’s Club\, 2 Audley Square\, Mayfair\, London\, W1K 1DB\, United Kingdom
CATEGORIES:Tasting
ATTACH;FMTTYPE=image/jpeg:https://www.circleofwinewriters.org/wp-content/uploads/2018/08/Vignobles-Signatures.jpg
ORGANIZER;CN="R&R Teamwork":MAILTO:eleanor@randr.co.uk
END:VEVENT
END:VCALENDAR