BEGIN:VCALENDAR
VERSION:2.0
PRODID:-//Circle of Wine Writers - ECPv6.3.5//NONSGML v1.0//EN
CALSCALE:GREGORIAN
METHOD:PUBLISH
X-ORIGINAL-URL:https://www.circleofwinewriters.org
X-WR-CALDESC:Events for Circle of Wine Writers
REFRESH-INTERVAL;VALUE=DURATION:PT1H
X-Robots-Tag:noindex
X-PUBLISHED-TTL:PT1H
BEGIN:VTIMEZONE
TZID:Europe/London
BEGIN:DAYLIGHT
TZOFFSETFROM:+0000
TZOFFSETTO:+0100
TZNAME:BST
DTSTART:20210328T010000
END:DAYLIGHT
BEGIN:STANDARD
TZOFFSETFROM:+0100
TZOFFSETTO:+0000
TZNAME:GMT
DTSTART:20211031T010000
END:STANDARD
END:VTIMEZONE
BEGIN:VEVENT
DTSTART;TZID=Europe/London:20211001T140000
DTEND;TZID=Europe/London:20211001T150000
DTSTAMP:20260421T140439
CREATED:20210921T153147Z
LAST-MODIFIED:20210921T160130Z
UID:48842-1633096800-1633100400@www.circleofwinewriters.org
SUMMARY:CWW - Let’s talk about Criolla: South America’s native grape varieties with Amanda Barnes
DESCRIPTION:Amanda Barnes\, author of the much acclaimed South America Wine Guide and editor of the Circular\, will be presenting a masterclass on the old vines and Criolla grape varieties of South America. First planted on the continent more than 500 years ago\, these founding varieties have developed into a complex net of native varieties. Amanda will explore the Criolla family tree and share stories of the history and revival of these unique South American varieties. \nAlthough this is a Let’s Talk… session\, there are a limited number of samples available for UK-based members. The wines available are Marchigiana Criolla by Catena Zapata\, Torrontés by Chakana and País Viejo by Bouchon. Please email Andrea – deadline this Friday\, 24 September – if you would like to request samples to taste in the session. She will need your address and to know where you would be publishing the tasting notes. \nTo learn more about Amanda’s book\, see: https://southamericawineguide.com/book/ \nThis will be a fascinating session\, so do join Amanda on Friday 1 October at 2 pm (BST). The session\, including Q&As\, will last for approximately one hour.  Guests will be very welcome\, but please let Andrea know their names – administrator@circleofwinewriters.org \n 
URL:https://www.circleofwinewriters.org/event/cww-lets-talk-about-criolla-south-americas-native-grape-varieties-with-amanda-barnes/
ATTACH;FMTTYPE=image/jpeg:https://www.circleofwinewriters.org/wp-content/uploads/2021/09/Amanda-Criolla-e1632237827694.jpg
END:VEVENT
BEGIN:VEVENT
DTSTART;TZID=Europe/London:20211029T120000
DTEND;TZID=Europe/London:20211029T160000
DTSTAMP:20260421T140439
CREATED:20210816T095548Z
LAST-MODIFIED:20210816T095548Z
UID:48711-1635508800-1635523200@www.circleofwinewriters.org
SUMMARY:Champagne Show 2021 - trade and press only
DESCRIPTION:Expect over 100 wines from The Whisky Exchange’s unrivalled range of Champagne to taste\, including new producers this year such as Telmont and new to the show\, Billecart Salmon and Palmers. As well as an incredible lineup of masterclasses and panel discussions with global ambassadors\, wine makers and cellar blenders. The Comité Champagne will be running sessions with Erik Lorenz and we are including a growers Champagne section at the show. \nDo let us know if you can join us so that we can register your attendance. (If you are only able to join in virtually\, please let us know and we can organise access for you.) \nFor more details please visit www.champagneshow.com or via https://champagneshow.com/london/ \n 
URL:https://www.circleofwinewriters.org/event/champagne-show-2021-trade-and-press-only/
LOCATION:Green Room\, 1 Great George Street\, London\, SW1P 3AA
ATTACH;FMTTYPE=image/png:https://www.circleofwinewriters.org/wp-content/uploads/2021/08/calendarofeventsChampagne-Show-2021-1.png
ORGANIZER;CN="The Whisky Exchange":MAILTO:abbigale@thewhiskyexchange.com
END:VEVENT
END:VCALENDAR